BEGIN:VCALENDAR
VERSION:2.0
PRODID:-//ChamberMaster//Event Calendar 2.0//EN
METHOD:PUBLISH
X-PUBLISHED-TTL:P3D
REFRESH-INTERVAL:P3D
CALSCALE:GREGORIAN
BEGIN:VEVENT
DTSTART:20191114T163000Z
DTEND:20191114T180000Z
X-MICROSOFT-CDO-ALLDAYEVENT:FALSE
SUMMARY:WWLCC November Membership Luncheon at Pine Ridge Country C\;ub
DESCRIPTION:WWLCC November Membership Meeting \n\nPine Ridge Country Club\n\nFind out how our schools are preparing\n\nyour future employees!!\n\n\n\nState of the Schools\n\n\n\n	Superintendents will provide an update on the state of their schools\n	Student representatives will speak\n	\n		Sharing experiences working with local businesses\n		Skills learned that will help them in the future\n	\n	\n\n\n\nSponsorships Available-$250\n\nA coporate logo with a link to your company's website in our newsletter and E-Blasts\n\nA reserved table for display items and two minutes speaking time.\n\nTwo complimentary meals at the luncheon
X-ALT-DESC;FMTTYPE=text/html:<div style="text-align: center\;"><em><span style="font-size: 20px\;"><strong><span style="font-family: arial\;">WWLCC&nbsp\;November Membership Meeting&nbsp\;<br />\n<span style="color: rgb(178\, 34\, 34)\;">Pine Ridge Country Club</span><br />\nFind out how our schools are preparing<br />\nyour future employees!!</span></strong></span></em><br />\n<br />\n<strong><em><span style="font-size: 22px\;">State of the Schools</span></em></strong></div>\n\n<div style="text-align: center\;">\n<ul>\n	<li><span style="font-family: arial\;"><span style="font-size: 18px\;">Superintendents will provide an update on the state of their schools</span></span></li>\n	<li><span style="font-family: arial\;"><span style="font-size: 18px\;">Student representatives will speak</span></span>\n	<ul>\n		<li><span style="font-family: arial\;"><span style="font-size: 18px\;">Sharing experiences working with local businesses</span></span></li>\n		<li><span style="font-family: arial\;"><span style="font-size: 18px\;">Skills learned that will help them in the future</span></span></li>\n	</ul>\n	</li>\n</ul>\n<br />\n<span style="font-family: arial\;"><strong><span style="font-size: 20px\;">Sponsorships Available-$250<br />\nA coporate logo with a link to your company&#39\;s website in our newsletter and E-Blasts<br />\nA reserved table for display items and two minutes speaking time.<br />\nTwo complimentary meals at the luncheon</span></strong></span><br />\n&nbsp\;</div>\n
LOCATION:Pine Ridge Country Club 30601 Ridge Rd Wickliffe\, OH 44092
UID:e.537.1328
SEQUENCE:3
DTSTAMP:20260420T171553Z
URL:https://business.wwlcchamber.com/events/details/wwlcc-november-membership-luncheon-at-pine-ridge-country-c-ub-1328
END:VEVENT

END:VCALENDAR
