BEGIN:VCALENDAR
VERSION:2.0
PRODID:-//ChamberMaster//Event Calendar 2.0//EN
METHOD:PUBLISH
X-PUBLISHED-TTL:P3D
REFRESH-INTERVAL:P3D
CALSCALE:GREGORIAN
BEGIN:VEVENT
DTSTART:20200428T140000Z
DTEND:20200428T160000Z
X-MICROSOFT-CDO-ALLDAYEVENT:FALSE
SUMMARY:Work for Yourself@50+ Workshop
DESCRIPTION:Work for Yourself@50+ is a workshop to help you gain the knowledge\, support\, and resources you need to make informed decisions about working for yourself and taking the right first steps toward successful self-employment. The decision to start your own business can be both exciting and daunting. Work for Yourself@50+ breaks the choices down for older adults in an approachable way through five steps:\n\n\n\n1. A careful consideration of the potential benefits and risks of working for yourself\n\n2. Exercises to help develop the self-employment idea\n\n3. A realistic overview of what it takes to pursue a self-employment opportunity\n\n4. Guidance to help avoid pitfalls and scams\n\n5. Ways to find trustworthy support and services\n\n\n\nPlease note that all ages are welcome to join.  Please register at: https://aarp.cvent.com/events/lakeland-community-college-work-for-yourself-50-/event-summary-b852884f59834949a328d8ee5efc1153.aspx\n\n\n\nPresented by the Ohio SBDC at Lakeland C.C. in partnership with  the AARP Foundation
X-ALT-DESC;FMTTYPE=text/html:<strong>Work for Yourself@50+ is a workshop to help you gain the knowledge\, support\, and resources you need to make informed decisions about working for yourself and taking the right first steps toward successful self-employment. The decision to start your own business can be both exciting and daunting. Work for Yourself@50+ breaks the choices down for older adults in an approachable way through five steps:<br />\n<br />\n1. A careful consideration of the potential benefits and risks of working for yourself<br />\n2. Exercises to help develop the self-employment idea<br />\n3. A realistic overview of what it takes to pursue a self-employment opportunity<br />\n4. Guidance to help avoid pitfalls and scams<br />\n5. Ways to find trustworthy support and services<br />\n<br />\nPlease note that all ages are welcome to join.&nbsp\; Please register at:&nbsp\;<a href="https://aarp.cvent.com/events/lakeland-community-college-work-for-yourself-50-/event-summary-b852884f59834949a328d8ee5efc1153.aspx">https://aarp.cvent.com/events/lakeland-community-college-work-for-yourself-50-/event-summary-b852884f59834949a328d8ee5efc1153.aspx</a><br />\n<br />\nPresented by the Ohio SBDC at Lakeland C.C. in partnership with&nbsp\;&nbsp\;the AARP Foundation&nbsp\;</strong>
LOCATION:Morley Library 184 Phelps St\, Painesville\, OH 44077
UID:e.537.1802
SEQUENCE:3
DTSTAMP:20260420T103500Z
URL:https://business.wwlcchamber.com/events/details/work-for-yourself-50-workshop-1802
END:VEVENT

END:VCALENDAR
