BEGIN:VCALENDAR
VERSION:2.0
PRODID:-//ChamberMaster//Event Calendar 2.0//EN
METHOD:PUBLISH
X-PUBLISHED-TTL:P3D
REFRESH-INTERVAL:P3D
CALSCALE:GREGORIAN
BEGIN:VEVENT
DTSTART:20240530T213000Z
DTEND:20240530T233000Z
X-MICROSOFT-CDO-ALLDAYEVENT:FALSE
SUMMARY:Women United Speaker Series: Thriving Through Change Featuring 3 Local Authors & Motivational Speakers
DESCRIPTION:Women United of United Way of Lake County is known for its fabulous Speaker Series\, and our upcoming event on Thursday\, May 30th is no exception! Join us and delight in the wisdom of three dynamic motivational speakers and esteemed authors at SOL\, in beautiful downtown Willoughby\, while indulging in a taco bar\, fresh salad\, chips\, salsa\, and a cash bar!\n\n \n\nDiscover insights on embracing life's changes\, whether anticipated or unexpected from panelists Nancy Christie\, Laura Gray\, and Pam Kurt. Click here to visit our website for information on each of these incredible women\, including moderator Michele Johnson. Register Now!\n\n \n\n	Acquire practical guidance and actionable strategies to navigate life's transitions effectively.\n	Benefit from personal anecdotes and proven techniques\, receiving valuable advice on adapting to change\, overcoming challenges\, and flourishing during transitions in various aspects of our lives\, including personal\, professional\, parenting\, and beyond.\n	Depart encouraged to experience and pursue change with renewed confidence and resilience.\n	Network among like-minded women also seeking inspiration and guidance for the opportunity to foster meaningful relationships and support systems.\n\n \n\nAlso Included: A Taco Bar\, Salad\, Chips\, Salsa\, and Cash Bar   PLUS   Books and Book Signings by the Authors Following Event!\n\nRegister now! Complete details on our panelists can be found here.\n\n\n\nGenerously Sponsored by: Best Version of You
X-ALT-DESC;FMTTYPE=text/html:<span style="font-family:arial\,sans-serif"><span style="font-size:10.5pt">Women United of United Way of Lake County is known for its fabulous Speaker Series\, and our upcoming event on Thursday\, May 30th is no exception! Join us and delight in the wisdom of three dynamic motivational speakers and esteemed authors at SOL\, in beautiful downtown Willoughby\, while indulging in a taco bar\, fresh salad\, chips\, salsa\, and a cash bar!<br />\n&nbsp\;<br />\nDiscover insights on embracing life&#39\;s changes\, whether anticipated or unexpected from&nbsp\;<strong>panelists Nancy Christie\, Laura Gray\, and Pam Kurt.</strong>&nbsp\;<a href="https://www.uwlc.org/thriving">Click here to visit our website</a>&nbsp\;for information on each of these incredible women\, including&nbsp\;<strong>moderator Michele Johnson</strong>. Register Now!<br />\n&nbsp\;</span></span>\n<ul>\n	<li><span style="font-family:arial\,sans-serif"><span style="font-size:10.5pt">Acquire practical guidance and actionable strategies to navigate life&#39\;s transitions effectively.</span></span></li>\n	<li><span style="font-family:arial\,sans-serif"><span style="font-size:10.5pt">Benefit from personal anecdotes and proven techniques\, receiving valuable advice on adapting to change\, overcoming challenges\, and flourishing during transitions in various aspects of our lives\, including personal\, professional\, parenting\, and beyond.</span></span></li>\n	<li><span style="font-family:arial\,sans-serif"><span style="font-size:10.5pt">Depart encouraged to experience and pursue change with renewed confidence and resilience.</span></span></li>\n	<li><span style="font-family:arial\,sans-serif"><span style="font-size:10.5pt">Network among like-minded women also seeking inspiration and guidance for the opportunity to foster meaningful relationships and support systems.</span></span></li>\n</ul>\n&nbsp\;<br />\n<strong><span style="color:#111111"><span style="font-family:arial\,sans-serif"><span style="font-size:10.5pt">Also Included:&nbsp\;</span></span></span></strong><span style="color:#111111"><span style="font-family:arial\,sans-serif"><span style="font-size:10.5pt">A Taco Bar\, Salad\, Chips\, Salsa\, and Cash Bar &ndash\; PLUS &ndash\; Books and Book Signings by the Authors Following Event!</span></span></span><br />\n<span style="color:#111111"><span style="font-family:roboto"><span style="font-size:13.5pt"><a href="https://secure.givelively.org/event/united-way-of-lake-county/women-united-speaker-series-thriving-through-change">Register now</a>! Complete details on our panelists&nbsp\;<a href="https://www.uwlc.org/thriving">can be found here</a>.<br />\n<br />\n<span style="font-size:14px"><span style="font-family:arial\,helvetica\,sans-serif"><strong>Generously Sponsored by:</strong> Best Version of You</span></span></span></span></span><br />\n&nbsp\;
LOCATION:SOL\, located in historic Downtown Willoughby at at 38257 Glenn Ave
UID:e.537.2713
SEQUENCE:3
DTSTAMP:20260424T202039Z
URL:https://business.wwlcchamber.com/events/details/women-united-speaker-series-thriving-through-change-featuring-3-local-authors-motivational-speakers-2713
END:VEVENT

END:VCALENDAR
