BEGIN:VCALENDAR
VERSION:2.0
PRODID:-//ChamberMaster//Event Calendar 2.0//EN
METHOD:PUBLISH
X-PUBLISHED-TTL:P3D
REFRESH-INTERVAL:P3D
CALSCALE:GREGORIAN
BEGIN:VEVENT
DTSTART:20191214T160000Z
DTEND:20191214T200000Z
X-MICROSOFT-CDO-ALLDAYEVENT:FALSE
SUMMARY:Winter Wonderland Wedding Expo
DESCRIPTION:Looking for catering\, barbers\, florist\, officiants\, travel agents\, fitness and wellness\, spa and beauty\, realtors\, men related businesses.
X-ALT-DESC;FMTTYPE=text/html:Looking for catering\, barbers\, florist\, officiants\, travel agents\, fitness and wellness\, spa and beauty\, realtors\, men related businesses.&nbsp\;
LOCATION:American Croatian Lodge 34900 Lakeshore Blvd Eastlake\, Oh 44095
UID:e.537.1750
SEQUENCE:3
DTSTAMP:20260420T154049Z
URL:https://business.wwlcchamber.com/events/details/winter-wonderland-wedding-expo-1750
END:VEVENT

END:VCALENDAR
