BEGIN:VCALENDAR
VERSION:2.0
PRODID:-//ChamberMaster//Event Calendar 2.0//EN
METHOD:PUBLISH
X-PUBLISHED-TTL:P3D
REFRESH-INTERVAL:P3D
CALSCALE:GREGORIAN
BEGIN:VEVENT
DTSTART:20200220T220000Z
DTEND:20200221T003000Z
X-MICROSOFT-CDO-ALLDAYEVENT:FALSE
SUMMARY:Winter Break Event Hosted by Council on Aging Board of Trustees
DESCRIPTION:Board of Trustees of\n\nLake County Council on Aging Proudly Present\n\nWinter Break Event 2020\n\nTo support March for Meals\n\nAfter Work\, Thursday\, February 20\, 2020\n\n5:30   7:30 P.M.\n\nPASTINA RUSTIC ITALIAN KITCHEN\n\n \n$30 Adults\, $25 Seniors (65+)\, $30 at Door\n\nAppetizers Included\, Cash Bar\n\nChinese Auction   Side Board Auction\n\nSPONSORSHIP OPPORTUNITIES AVAILABLE\n\n \nFor Tickets Contact the LCCoA at 440-205-8111\n\nEmail scianciola@manning-law   or    jthomas@schraffthomaslaw.com
X-ALT-DESC;FMTTYPE=text/html:<h2 style="font-style: italic\; text-align: center\;"><span style="color:#0000FF"><span style="font-family:tahoma"><span style="font-size:18px"><strong>Board of Trustees of<br />\nLake County Council on Aging Proudly Present</strong></span></span></span></h2>\n\n<h2 style="text-align: center\;"><span style="color:#0000FF"><span style="font-family:tahoma"><span style="font-size:18px"><strong><span style="font-size:22px">Winter Break Event 2020</span></strong></span></span></span><br />\n<span style="color:#FF8C00"><span style="font-family:tahoma"><span style="font-size:18px"><strong>To support March for Meals</strong></span></span></span></h2>\n\n<div style="text-align: center\;"><span style="font-size:14px"><span style="color:#0000FF"><span style="font-size:18px"><strong><span style="font-family:tahoma">After Work\, Thursday\, February 20\, 2020<br />\n5:30 &ndash\; 7:30 P.M.<br />\n<span style="font-size:20px">PASTINA RUSTIC ITALIAN KITCHEN</span></span></strong></span></span></span><br />\n&nbsp\;</div>\n<span style="font-size:16px">$30 Adults\, $25 Seniors (65+)\, $30 at Door<br />\nAppetizers Included\, Cash Bar<br />\nChinese Auction &ndash\; Side Board Auction<br />\n<strong>SPONSORSHIP OPPORTUNITIES AVAILABLE</strong></span>\n\n<div style="text-align: center\;">&nbsp\;</div>\n<span style="font-size:16px">For Tickets Contact the LCCoA at 440-205-8111<br />\nEmail scianciola@manning-law&nbsp\; &nbsp\;or&nbsp\; &nbsp\; jthomas@schraffthomaslaw.com</span>
LOCATION:Pastina Rustica 9354 Mentor Avenue Mentor\, Ohio 44060
UID:e.537.1784
SEQUENCE:3
DTSTAMP:20260420T143020Z
URL:https://business.wwlcchamber.com/events/details/winter-break-event-hosted-by-council-on-aging-board-of-trustees-1784
END:VEVENT

END:VCALENDAR
