BEGIN:VCALENDAR
VERSION:2.0
PRODID:-//ChamberMaster//Event Calendar 2.0//EN
METHOD:PUBLISH
X-PUBLISHED-TTL:P3D
REFRESH-INTERVAL:P3D
CALSCALE:GREGORIAN
BEGIN:VEVENT
DTSTART:20191205T213000Z
DTEND:20191206T013000Z
X-MICROSOFT-CDO-ALLDAYEVENT:FALSE
SUMMARY:Willoughby General - Tree Lighting Ceremony
DESCRIPTION:The Downtown Willoughby Christmas Lighting is just around the corner..... Join us on Thursday\, December 5\, from 4:30 pm - 8:30 pm for a fantastic view of the lighting! KID FRIENDLY!! We'll be offering a menu of chili\, mac & cheese\, hot dogs\, nachos & cheese\, jumbo pretzels\, hot chocolate\, soft drinks\, etc. Don't miss out on the fun - see you there!!
X-ALT-DESC;FMTTYPE=text/html:<span style="color: rgb(29\, 33\, 41)\; font-family: helvetica\,arial\,sans-serif\; font-size: 14px\; background-color: rgb(255\, 255\, 255)\;">The Downtown Willoughby Christmas Lighting is just around the corner..... Join us on Thursday\, December 5\, from 4:30 pm - 8:30 pm for a fantastic view of the lighting! KID FRIENDLY!! We&#39\;ll be offering a menu of chili\, mac &amp\; cheese\, hot dogs\, nachos &amp\; cheese\, jumbo pretzels\, hot chocolate\, soft drinks\, etc. Don&#39\;t miss out on the fun - see you there!!</span>
LOCATION:Willoughby General Store 4148 Erie Street - Upper Willoughby OH 44094
UID:e.537.1752
SEQUENCE:3
DTSTAMP:20260420T153904Z
URL:https://business.wwlcchamber.com/events/details/willoughby-general-tree-lighting-ceremony-1752
END:VEVENT

END:VCALENDAR
