BEGIN:VCALENDAR
VERSION:2.0
PRODID:-//ChamberMaster//Event Calendar 2.0//EN
METHOD:PUBLISH
X-PUBLISHED-TTL:P3D
REFRESH-INTERVAL:P3D
CALSCALE:GREGORIAN
BEGIN:VEVENT
DTSTART:20200422T180000Z
DTEND:20200422T190000Z
X-MICROSOFT-CDO-ALLDAYEVENT:FALSE
SUMMARY:Webinar-What Might Back to Work Look Like for Lake County?
DESCRIPTION:The Willoughby Western Lake County Chamber of Commerce is pleased to offer a "What Might Back to Work Look Like for Lake County" Webinar\, presented by Ron Graham\, Health Commissioner\, Lake County Health District.   Commissioner Ron Young will be joining Commissioner Ron Graham in this conversation. The webinar is this Wednesday\, April 22nd at 2:00 pm. \n\n\n\nVirtual Host Sponsor\n\nYour business name in the event title\, your logo on all emails about the event and on event page. Three minutes to speak at the beginning of the meeting
X-ALT-DESC;FMTTYPE=text/html:<div style="text-align: center\;"><span style="font-size:18px\;"><span style="font-family:arial\,sans-serif\;">The Willoughby Western Lake County Chamber of Commerce is&nbsp\;pleased to offer a <strong>&quot\;What Might Back to Work Look Like for Lake County&quot\; Webinar</strong>\, presented by <strong>Ron Graham\, Health Commissioner\, Lake County Health District</strong>.&nbsp\; &nbsp\;Commissioner Ron Young will be joining Commissioner Ron Graham in this conversation. The webinar is <strong>this Wednesday\, April 22nd at 2:00 pm</strong>.&nbsp\;</span></span><br />\n<br />\n<span style="font-size:16px\;"><em><strong><u>Virtual Host Sponsor</u><br />\nYour business name in the event title\, your logo on all emails about the event and on event page. Three minutes to speak at the beginning of the meeting</strong></em></span></div>\n
LOCATION:Zoom link will be sent the day prior to registrants
UID:e.537.1826
SEQUENCE:3
DTSTAMP:20260420T103819Z
URL:https://business.wwlcchamber.com/events/details/webinar-what-might-back-to-work-look-like-for-lake-county-1826
END:VEVENT

END:VCALENDAR
