BEGIN:VCALENDAR
VERSION:2.0
PRODID:-//ChamberMaster//Event Calendar 2.0//EN
METHOD:PUBLISH
X-PUBLISHED-TTL:P3D
REFRESH-INTERVAL:P3D
CALSCALE:GREGORIAN
BEGIN:VEVENT
DTSTART:20200608T150000Z
DTEND:20200608T160000Z
X-MICROSOFT-CDO-ALLDAYEVENT:FALSE
SUMMARY:Virtual Round table With Congressman David Joyce
DESCRIPTION:Virtual Roundtable Webinar with Congressman Joyce\n\n \n\nThose who registered last week and did not have an opportunity to hear from Congressman Joyce now have the opportunity to have a roundtable with him.\n\nCongressman Joyce will give his update and then our leg team will give a short briefing regarding PPP\, unemployment and what's been involved in these packages.\n\nWe will then move to a short Q&A.
X-ALT-DESC;FMTTYPE=text/html:&nbsp\;\n<div style="text-align: center\;"><span style="font-size:22px\;">Virtual Roundtable Webinar with Congressman Joyce</span></div>\n\n<div style="text-align: center\;"><span style="font-size:22px\;">&nbsp\;<br />\nThose who registered last week and did not have an opportunity to hear from Congressman Joyce now have the opportunity to have a roundtable with him.</span><br />\n<span style="font-size:20px\;">Congressman&nbsp\;Joyce will give&nbsp\;his update and then our leg team will give a short briefing regarding PPP\, unemployment and what&rsquo\;s been involved in these packages.<br />\nWe will then move to a short Q&amp\;A.</span><br />\n&nbsp\;</div>\n
LOCATION:
UID:e.537.1848
SEQUENCE:3
DTSTAMP:20260420T081144Z
URL:https://business.wwlcchamber.com/events/details/virtual-round-table-with-congressman-david-joyce-1848
END:VEVENT

END:VCALENDAR
