BEGIN:VCALENDAR
VERSION:2.0
PRODID:-//ChamberMaster//Event Calendar 2.0//EN
METHOD:PUBLISH
X-PUBLISHED-TTL:P3D
REFRESH-INTERVAL:P3D
CALSCALE:GREGORIAN
BEGIN:VEVENT
DTSTART:20200625T200000Z
DTEND:20200625T213000Z
X-MICROSOFT-CDO-ALLDAYEVENT:FALSE
SUMMARY:Virtual Business After Hours
DESCRIPTION:WWLCC Business After Hours\n\nThursday\, June 25th 4PM\n\nJoin us as the Chef from \n\n Vittorio's Buon Appetito  will be show us how to make one of their special meals \n\nMike Srsen will share with us the fun things you can take advantage of at Lost Nation Sports Park \n\nBring your favorite cocktail and share your recipe with your fellow Chamber Members.
X-ALT-DESC;FMTTYPE=text/html:<div style="text-align: center\;"><span style="font-size:18px\;"><strong>WWLCC Business After Hours<br />\nThursday\, June 25th 4PM</strong></span><br />\n<strong><span style="color:#333333\;"><span style="font-family:arial\,sans-serif\;"><span style="font-size:13.5pt\;">Join us as the Chef from </span></span></span></strong><br />\n<span style="color:#403F42\;"><span style="font-family:arial\,sans-serif\;"><span style="font-size:9.0pt\;"><a href="http://r20.rs6.net/tn.jsp?f=001_hm7sxBfZXRb0GbthjdDXmoU6kcbmHmI9uKbI5ckXJ4z731mAxk46ImZpvB6cZc1hwzBPVfd3CnXRu-P1557YyQXnc7sqDf9_PZzbJji3JUD9lDfM-z0SnvpVXLQvJLWEYTbdSLMIl2hvBNrJKBkJiHVfXPT44gS&amp\;c=H7Y6J1oelyNQPgnUI1kzp_I_eUyAGHvBeq8N8WDqm8icw72AMlJNvw==&amp\;ch=oQ380CHVxPdWWr245YU3HUqGo_7cd_TzJk3TF8q9B69DaJ1Z46PV7w==" target="_blank">&#65279\;<strong><span style="color:#333333\;"><span style="font-size:13.5pt\;">Vittorio&#39\;s Buon Appetito</span></span></strong></a></span></span></span><strong><span style="color:#333333\;"><span style="font-family:arial\,sans-serif\;"><span style="font-size:13.5pt\;">&nbsp\;&nbsp\;will be show us how to make one of their special meals&nbsp\;</span></span></span></strong><br />\n<strong><span style="color:#333333\;"><span style="font-family:arial\,sans-serif\;"><span style="font-size:13.5pt\;">Mike Srsen will share with us the fun things you can take advantage of at </span></span></span></strong><span style="color:#403F42\;"><span style="font-family:arial\,sans-serif\;"><span style="font-size:9.0pt\;"><a href="http://r20.rs6.net/tn.jsp?f=001_hm7sxBfZXRb0GbthjdDXmoU6kcbmHmI9uKbI5ckXJ4z731mAxk46ImZpvB6cZc1q4njYfdJK72ebfewEfttjJBWkzXRnqV0UUo1FR2Xp2YgmBwuquK3OztjFyzNZLbJfrc16imlOQ2DZH4h4R7IWg==&amp\;c=H7Y6J1oelyNQPgnUI1kzp_I_eUyAGHvBeq8N8WDqm8icw72AMlJNvw==&amp\;ch=oQ380CHVxPdWWr245YU3HUqGo_7cd_TzJk3TF8q9B69DaJ1Z46PV7w==" target="_blank"><strong><span style="color:#333333\;"><span style="font-size:13.5pt\;">Lost Nation Sports Park</span></span></strong></a> </span></span></span><br />\n<strong><span style="color:#333333\;"><span style="font-family:arial\,sans-serif\;"><span style="font-size:13.5pt\;">Bring your favorite cocktail and share your recipe with your fellow Chamber Members</span></span></span></strong><span style="color:#333333\;"><span style="font-family:arial\,sans-serif\;"><span style="font-size:13.5pt\;">.</span></span></span><br />\n&nbsp\;</div>\n
LOCATION:Zoom link will be sent to you by 2pm day of event
UID:e.537.1846
SEQUENCE:3
DTSTAMP:20260420T081148Z
URL:https://business.wwlcchamber.com/events/details/virtual-business-after-hours-1846
END:VEVENT

END:VCALENDAR
