BEGIN:VCALENDAR
VERSION:2.0
PRODID:-//ChamberMaster//Event Calendar 2.0//EN
METHOD:PUBLISH
X-PUBLISHED-TTL:P3D
REFRESH-INTERVAL:P3D
CALSCALE:GREGORIAN
BEGIN:VEVENT
DTSTART:20200315T180000Z
DTEND:20200315T200000Z
X-MICROSOFT-CDO-ALLDAYEVENT:FALSE
SUMMARY:Torchlight's Light Up The Lanes
DESCRIPTION:Join Torchlight Youth Mentoring Alliance at Scores Fun Center for our 39th Annual Bowl-a-thon to support youth mentoring programs in Lake\, Geauga and Ashtabula Counties. Find more info at https://torchlightyma.ejoinme.org/bowl
X-ALT-DESC;FMTTYPE=text/html:<h2 style="font-style:italic\;"><span style="color:#B22222"><span style="font-size:22px"><span style="font-family:arial\,helvetica\,sans-serif"><strong>Join Torchlight Youth Mentoring Alliance at Scores Fun Center for our 39th Annual Bowl-a-thon to support youth mentoring programs in Lake\, Geauga and Ashtabula Counties. Find more info at</strong></span></span></span><span style="color:#000080"><span style="font-size:22px"><span style="font-family:arial\,helvetica\,sans-serif"><strong> <a href="https://torchlightyma.ejoinme.org/bowl">https://torchlightyma.ejoinme.org/bowl</a></strong></span></span></span></h2>\n
LOCATION:Scores Fun Center in Painesville\, OH
UID:e.537.1800
SEQUENCE:3
DTSTAMP:20260420T115613Z
URL:https://business.wwlcchamber.com/events/details/torchlight-s-light-up-the-lanes-1800
END:VEVENT

END:VCALENDAR
