BEGIN:VCALENDAR
VERSION:2.0
PRODID:-//ChamberMaster//Event Calendar 2.0//EN
METHOD:PUBLISH
X-PUBLISHED-TTL:P3D
REFRESH-INTERVAL:P3D
CALSCALE:GREGORIAN
BEGIN:VEVENT
DTSTART:20191026T220000Z
DTEND:20191027T010000Z
X-MICROSOFT-CDO-ALLDAYEVENT:FALSE
SUMMARY:The Art Gallery-Art Wine Food Benefit for St. Jude's Children's Hospital
DESCRIPTION:ART WINE FOOD (AWF)\n\nbenefit for St. Jude's Children's \n\nResearch Hospital\n\nSaturday\, October 26\, 2019     6:00 to 9:00 PM\n                                                                       \n\n38721 Mentor Ave. Suite 1                                            St. Jude 501-c3\n\nWilloughby\, OH 44094                                             #35-1044585\n\n440-946-8001\n\n \n\nA Pairing of Northeastern Ohio Varietal Fine Wines with \n\nFeatured Tapas Specialties of Willoughby Area Restaurants\n\n \n\nSocial Hour: White and Red Sangria Provided by Spirits of Willoughby\n\n1st Course: Sweet Peppers' Spring Rolls with Urban Vintner's Rose of Syrah\n\n2nd Course: SOL's Caprese Skewers with Laurello Vineyards' Pinot Grigio\n\n3rd Course: Chagrin River Diner's Steelhead Trout with Harpersfield's Pinot Noir\n\n4th Course: Sol's Tenderloin Crostini with Silver Crest Cellars' Cabernet Sauvignon\n\n5th Course: Fiona's (Aunt Judy's) Banana Cake with an Italian Moscato d'Asti\n\n \n  Your donation of $40.00 per ticket is tax deductible.  Please RSVP to The Art gallery with your\n\n  donation and the names of those who will be attending.\n                     \n\n Click Here for more information
X-ALT-DESC;FMTTYPE=text/html:<div style="text-align: center\;"><strong><span style="font-size: 20pt\;"><span style="font-family: arial\,sans-serif\;"><span style="color: rgb(192\, 0\, 0)\;">ART WINE FOOD</span></span></span></strong><span style="font-size: 20pt\;"><span style="font-family: arial\,sans-serif\;"><span style="color: rgb(192\, 0\, 0)\;"> <strong>(AWF)</strong></span></span></span><br />\n<strong><span style="text-transform: uppercase\;"><span style="font-size: 18pt\;"><span style="font-family: arial\,sans-serif\;"><span style="color: rgb(192\, 0\, 0)\;">benefit for St. Jude&rsquo\;s Children&rsquo\;s </span></span></span></span></strong><br />\n<strong><span style="text-transform: uppercase\;"><span style="font-size: 18pt\;"><span style="font-family: arial\,sans-serif\;"><span style="color: rgb(192\, 0\, 0)\;">Research Hospital</span></span></span></span></strong><br />\n<strong><span style="font-size: 18pt\;"><span style="font-family: arial\,sans-serif\;"><span style="color: rgb(192\, 0\, 0)\;">Saturday\, October 26\, 2019&nbsp\;&nbsp\;&nbsp\;&nbsp\; 6:00 to 9:00 PM</span></span></span></strong></div>\n<span style="font-size: medium\;"><span style="font-family: calibri\;">&nbsp\;&nbsp\;&nbsp\;&nbsp\;&nbsp\;&nbsp\;&nbsp\;&nbsp\;&nbsp\;&nbsp\;&nbsp\;&nbsp\;&nbsp\;&nbsp\;&nbsp\;&nbsp\;&nbsp\;&nbsp\;&nbsp\;&nbsp\;&nbsp\;&nbsp\;&nbsp\;&nbsp\;&nbsp\;&nbsp\;&nbsp\; &nbsp\;&nbsp\;&nbsp\;&nbsp\;&nbsp\;&nbsp\;&nbsp\;&nbsp\;&nbsp\;&nbsp\;&nbsp\;&nbsp\;&nbsp\;&nbsp\;&nbsp\;&nbsp\;&nbsp\;&nbsp\;&nbsp\;&nbsp\;&nbsp\;&nbsp\;&nbsp\;&nbsp\;&nbsp\;&nbsp\; &nbsp\;&nbsp\;&nbsp\;&nbsp\;&nbsp\;&nbsp\;&nbsp\;&nbsp\;&nbsp\;&nbsp\;&nbsp\;&nbsp\;&nbsp\;&nbsp\; &nbsp\;</span></span><br />\n<span style="font-family: arial\,sans-serif\;"><span style="font-size: medium\;">38721 Mentor Ave. Suite 1&nbsp\;&nbsp\;&nbsp\;&nbsp\;&nbsp\;&nbsp\;&nbsp\;&nbsp\;&nbsp\;&nbsp\;&nbsp\;&nbsp\;&nbsp\;&nbsp\;&nbsp\;&nbsp\;&nbsp\;&nbsp\;&nbsp\;&nbsp\;&nbsp\;&nbsp\;&nbsp\;&nbsp\;&nbsp\;&nbsp\;&nbsp\;&nbsp\;&nbsp\;&nbsp\;&nbsp\;&nbsp\;&nbsp\;&nbsp\;&nbsp\;&nbsp\;&nbsp\;&nbsp\;&nbsp\;&nbsp\; &nbsp\;&nbsp\; St. Jude 501-c3</span></span><br />\n<span style="font-family: arial\,sans-serif\;"><span style="font-size: medium\;">Willoughby\, OH 44094&nbsp\;&nbsp\;&nbsp\;&nbsp\;&nbsp\;&nbsp\;&nbsp\;&nbsp\;&nbsp\;&nbsp\;&nbsp\;&nbsp\;&nbsp\;&nbsp\;&nbsp\;&nbsp\;&nbsp\;&nbsp\;&nbsp\;&nbsp\;&nbsp\;&nbsp\;&nbsp\;&nbsp\;&nbsp\; &nbsp\;&nbsp\;&nbsp\;&nbsp\;&nbsp\;&nbsp\;&nbsp\;&nbsp\;&nbsp\;&nbsp\;&nbsp\;&nbsp\;&nbsp\;&nbsp\;&nbsp\;&nbsp\;&nbsp\;&nbsp\;&nbsp\;#35-1044585</span></span><br />\n<span style="font-size: medium\;"><span style="font-family: arial\,sans-serif\;">440-946-8001</span></span><br />\n&nbsp\;<br />\n<strong><span style="font-size: 18pt\;"><span style="font-family: calibri\;">A Pairing of Northeastern Ohio Varietal Fine Wines with </span></span></strong><br />\n<strong><span style="font-size: 18pt\;"><span style="font-family: calibri\;">Featured Tapas Specialties of Willoughby Area Restaurants</span></span></strong><br />\n&nbsp\;<br />\n<span style="font-family: calibri\;"><strong><span style="font-size: 12pt\;">Social Hour: </span></strong><span style="font-size: 12pt\;">White and Red Sangria Provided by Spirits of Willoughby</span></span><br />\n<span style="font-family: calibri\;"><strong><span style="font-size: 12pt\;">1<sup>st</sup> Course: </span></strong><span style="font-size: 12pt\;">Sweet Peppers&rsquo\; Spring Rolls with Urban Vintner&rsquo\;s Rose of Syrah</span></span><br />\n<span style="font-family: calibri\;"><strong><span style="font-size: 12pt\;">2<sup>nd</sup> Course: </span></strong><span style="font-size: 12pt\;">SOL&rsquo\;s Caprese Skewers with Laurello Vineyards&rsquo\; Pinot Grigio</span></span><br />\n<span style="font-family: calibri\;"><strong><span style="font-size: 12pt\;">3<sup>rd</sup> Course: </span></strong><span style="font-size: 12pt\;">Chagrin River Diner&rsquo\;s Steelhead Trout with Harpersfield&rsquo\;s Pinot Noir</span></span><br />\n<span style="font-family: calibri\;"><strong><span style="font-size: 12pt\;">4<sup>th</sup> Course:</span></strong><span style="font-size: 12pt\;"> Sol&rsquo\;s Tenderloin Crostini with Silver Crest Cellars&rsquo\; Cabernet Sauvignon</span></span><br />\n<span style="font-family: calibri\;"><strong><span style="font-size: 12pt\;">5<sup>th</sup> Course:</span></strong><span style="font-size: 12pt\;"> Fiona&rsquo\;s (Aunt Judy&rsquo\;s) Banana Cake with an Italian Moscato d&rsquo\;Asti</span></span><br />\n&nbsp\;\n<div style="text-align: center\;"><span style="font-size: 12pt\;"><span style="font-family: arial\,sans-serif\;">&nbsp\; Your donation of $40.00 per ticket is tax deductible.&nbsp\; Please RSVP to The Art gallery with your</span></span><br />\n<span style="font-size: 12pt\;"><span style="font-family: arial\,sans-serif\;">&nbsp\; donation and the names of those who will be attending.</span></span></div>\n<span style="font-size: medium\;"><span style="font-family: calibri\;">&nbsp\;&nbsp\;&nbsp\;&nbsp\;&nbsp\;&nbsp\;&nbsp\;&nbsp\;&nbsp\;&nbsp\;&nbsp\; &nbsp\;&nbsp\;&nbsp\;&nbsp\;&nbsp\;&nbsp\;&nbsp\;&nbsp\; </span></span>\n\n<div style="text-align: center\;"><strong><span style="font-size: 20px\;">&nbsp\;<a href="https://chambermaster.blob.core.windows.net/userfiles/UserFiles/chambers/537/File/Benefitflyer-artgallery.docx">Click Here for more information</a></span></strong></div>\n&nbsp\;<br />\n<span style="font-size: medium\;"><span style="font-family: calibri\;">&nbsp\;&nbsp\;&nbsp\;&nbsp\;&nbsp\;&nbsp\;&nbsp\; &nbsp\;&nbsp\;&nbsp\;&nbsp\;&nbsp\;&nbsp\;&nbsp\;&nbsp\;&nbsp\;&nbsp\;&nbsp\; &nbsp\;&nbsp\;&nbsp\;&nbsp\;&nbsp\;&nbsp\;&nbsp\;&nbsp\;&nbsp\;&nbsp\; &nbsp\;&nbsp\;&nbsp\;&nbsp\;&nbsp\;&nbsp\;&nbsp\; </span></span><br />\n&nbsp\;<br />\n&nbsp\;<br />\n<span style="font-size: medium\;"><span style="font-family: calibri\;">&nbsp\;&nbsp\;&nbsp\;&nbsp\;&nbsp\;&nbsp\;&nbsp\;&nbsp\; &nbsp\; &nbsp\; &nbsp\;&nbsp\; &nbsp\; </span></span><br />\n&nbsp\;
LOCATION:The Art Gallery 38721 Mentor Ave. Suite 1 Willoughby\, OH 44094
UID:e.537.1736
SEQUENCE:3
DTSTAMP:20260420T184308Z
URL:https://business.wwlcchamber.com/events/details/the-art-gallery-art-wine-food-benefit-for-st-jude-s-children-s-hospital-1736
END:VEVENT

END:VCALENDAR
