BEGIN:VCALENDAR
VERSION:2.0
PRODID:-//ChamberMaster//Event Calendar 2.0//EN
METHOD:PUBLISH
X-PUBLISHED-TTL:P3D
REFRESH-INTERVAL:P3D
CALSCALE:GREGORIAN
BEGIN:VEVENT
DTSTART:20200115T163000Z
DTEND:20200115T180000Z
X-MICROSOFT-CDO-ALLDAYEVENT:FALSE
SUMMARY:The 2020 Census and Your Business Seminar-How a Complete Count Affects Your Company and It's Growth
DESCRIPTION:Understanding big data as it relates to small businesses can be confusing. Whether you are a young entrepreneur or a seasoned business owner\, understanding the importance of the 2020 Decennial Census and responding to the Census is not only crucial for America\, but also for the growth of your business. The Census is a bi-partisan constitutional mandate\, and people in America have been counted every ten years since 1790.\n\n\n\nCensus data is what will drive over $675 Billion dollars in federal funding every year for the next ten years. That's funding for start-ups\, loans\, and small business development grants. It's also funding for our infrastructure and other public services including schools\, roads\, bridges\, safety services\, and recreation. In addition this data helps business owners make key decisions affecting their day-to-day and long-term forecasting. From the boardroom to the classroom\, to the House of Representatives and to your house\, every one of us is affected by Census data.  \n\n\n\nJoin US Department of Commerce / US Census Bureau Partnership Specialist Susan Licate as she presents the latest information about the 2020 Census and how it affects Lake County business owners. \n\n\n\nThis is a brown bag lunch and learn so bring your lunch if you choose!  Please register by January 13\, 2020.
X-ALT-DESC;FMTTYPE=text/html:<strong>Understanding big data as it relates to small businesses can be confusing. Whether you are a young entrepreneur or a seasoned business owner\, understanding the importance of the 2020 Decennial Census and responding to the Census is not only crucial for America\, but also for the growth of your business. The Census is a bi-partisan constitutional mandate\, and people in America have been counted every ten years since 1790.<br />\n<br />\nCensus data is what will drive over $675 Billion dollars in federal funding every year for the next ten years. That&#39\;s funding for start-ups\, loans\, and small business development grants. It&#39\;s also funding for our infrastructure and other public services including schools\, roads\, bridges\, safety services\, and recreation. In addition this data helps business owners make key decisions affecting their day-to-day and long-term forecasting. From the boardroom to the classroom\, to the House of Representatives and to your house\, every one of us is affected by Census data.&nbsp\;&nbsp\;<br />\n<br />\nJoin US Department of Commerce / US Census Bureau Partnership Specialist Susan Licate as she presents the latest information about the 2020 Census and how it affects Lake County business owners.&nbsp\;<br />\n<br />\nThis is a brown bag lunch and learn so bring your lunch if you choose!&nbsp\; Please register by January 13\, 2020.</strong>
LOCATION:Lakeland C.C. Holden U.C. 4242 OH-306\, Kirtland\, OH 44094
UID:e.537.1767
SEQUENCE:3
DTSTAMP:20260420T143201Z
URL:https://business.wwlcchamber.com/events/details/the-2020-census-and-your-business-seminar-how-a-complete-count-affects-your-company-and-it-s-growth-1767
END:VEVENT

END:VCALENDAR
