BEGIN:VCALENDAR
VERSION:2.0
PRODID:-//ChamberMaster//Event Calendar 2.0//EN
METHOD:PUBLISH
X-PUBLISHED-TTL:P3D
REFRESH-INTERVAL:P3D
CALSCALE:GREGORIAN
BEGIN:VEVENT
DTSTART:20200327T170000Z
DTEND:20200327T180000Z
X-MICROSOFT-CDO-ALLDAYEVENT:FALSE
SUMMARY:Teleconference Call:A review of the SBA Economic Injury Disaster Loan program and how to apply
DESCRIPTION:Join us for a teleconference call with the SBA\n\nA review of the SBA Economic Injury Disaster Loan program\n\nand how to apply\n\n   Loan information\, qualifications\, and Q&A about the program\n\n.   Cathy Walsh\, Director of the Small Business Development Center at Lakeland Community College will be the speaker.\n\n \n\nKaren Tercek is inviting you to a scheduled Zoom meeting.\n\n \n\nTopic: A review of the SBA Economic Injury Disaster Loan program and how to apply\n\nTime: Mar 27\, 2020 01:00 PM Eastern Time (US and Canada)\n\n \n\nJoin Zoom Meeting\n\nhttps://zoom.us/j/953790416?pwd=TDQ0d09hbURPVTlianFXU3l0UXlaZz09\n\n \n\nMeeting ID: 953 790 416\n\nPassword: 139529\n\n \n\nOne tap mobile\n\n+13126266799\,\,953790416# US (Chicago)\n\n+16465588656\,\,953790416# US (New York)\n\n \n\nDial by your location\n\n        +1 312 626 6799 US (Chicago)\n\n        +1 646 558 8656 US (New York)\n\nMeeting ID: 953 790 416\n\nFind your local number: https://zoom.us/u/auOK3xdQI
X-ALT-DESC;FMTTYPE=text/html:<div style="text-align: center\;"><span style="font-size:22px\;"><span style="font-family:calibri\,sans-serif\;">Join us for a teleconference call with the SBA<br />\nA review of the SBA Economic Injury Disaster Loan program<br />\nand how to apply<br />\n&nbsp\;&nbsp\;&nbsp\;Loan information\, qualifications\, and&nbsp\;</span><span style="text-align:center\;"><span style="font-family:calibri\,sans-serif\;">Q&amp\;A about the program</span></span></span><br />\n. <span style="font-size:24px\;">&nbsp\;&nbsp\;Cathy Walsh\, Director of the Small Business Development Center at Lakeland Community College will be the speaker.<br />\n&nbsp\;</span><br />\n<span style="font-size:20px\;">Karen Tercek is inviting you to a scheduled Zoom meeting.<br />\n&nbsp\;<br />\nTopic: A review of the SBA Economic Injury Disaster Loan program and how to apply<br />\nTime: Mar 27\, 2020 01:00 PM Eastern Time (US and Canada)<br />\n&nbsp\;<br />\nJoin Zoom Meeting<br />\n<a href="https://zoom.us/j/953790416?pwd=TDQ0d09hbURPVTlianFXU3l0UXlaZz09">https://zoom.us/j/953790416?pwd=TDQ0d09hbURPVTlianFXU3l0UXlaZz09</a><br />\n&nbsp\;<br />\nMeeting ID: 953 790 416<br />\nPassword: 139529<br />\n&nbsp\;<br />\nOne tap mobile<br />\n+13126266799\,\,953790416# US (Chicago)<br />\n+16465588656\,\,953790416# US (New York)<br />\n&nbsp\;<br />\nDial by your location<br />\n&nbsp\;&nbsp\;&nbsp\;&nbsp\;&nbsp\;&nbsp\;&nbsp\; +1 312 626 6799 US (Chicago)<br />\n&nbsp\;&nbsp\;&nbsp\;&nbsp\;&nbsp\;&nbsp\;&nbsp\; +1 646 558 8656 US (New York)<br />\nMeeting ID: 953 790 416<br />\nFind your local number: <a href="https://zoom.us/u/auOK3xdQI">https://zoom.us/u/auOK3xdQI</a></span><br />\n&nbsp\;</div>\n
LOCATION:Join Zoom Meeting https://zoom.us/j/953790416?pwd=TDQ0d09hbURPVTlianFXU3l0UXlaZz09 Meeting ID: 953 790 416 Password: 139529
UID:e.537.1817
SEQUENCE:3
DTSTAMP:20260420T120219Z
URL:https://business.wwlcchamber.com/events/details/teleconference-call-a-review-of-the-sba-economic-injury-disaster-loan-program-and-how-to-apply-1817
END:VEVENT

END:VCALENDAR
