BEGIN:VCALENDAR
VERSION:2.0
PRODID:-//ChamberMaster//Event Calendar 2.0//EN
METHOD:PUBLISH
X-PUBLISHED-TTL:P3D
REFRESH-INTERVAL:P3D
CALSCALE:GREGORIAN
BEGIN:VEVENT
DTSTART:20240530T213000Z
DTEND:20240530T233000Z
X-MICROSOFT-CDO-ALLDAYEVENT:FALSE
SUMMARY:Talk & Taste for businesses in the Tri-County area
DESCRIPTION:The Alzheimer's crisis hits close to home and work\, but with new treatment advances that offer people facing the disease hope for more time with loved ones\, there's never been a better time to get involved.\n\n\n\nJoin us for the Walk to End Alzheimer's  Talk and Taste\, where we'll not only delve into the mission of the Alzheimer's Association  but also indulge in a variety of local wine and food. Learn how your organization can make a difference in your workplace\, community\, and beyond.\n\n\n\nThe evening will offer exclusive networking opportunities with local leaders and company representatives across Ashtabula\, Geauga\, and Lake counties.\n\n\n\nPLEASE RSVP HERE
X-ALT-DESC;FMTTYPE=text/html:<div>\n<p>The Alzheimer&rsquo\;s crisis hits close to home and work\, but with new treatment advances that offer people facing the disease hope for more time with loved ones\, there&rsquo\;s never been a better time to get involved.<br />\n<br />\nJoin us for the Walk to End Alzheimer&rsquo\;s&reg\; Talk and Taste\, where we&#39\;ll not only delve into the mission of the Alzheimer&rsquo\;s Association&reg\; but also indulge in a variety of local wine and food. Learn how your organization can make a difference in your workplace\, community\, and beyond.<br />\n<br />\nThe evening will offer exclusive networking opportunities with local leaders and company representatives across Ashtabula\, Geauga\, and Lake counties.<br />\n<br />\n<a href="https://forms.gle/Wz4LaNP39G2rCHug9">PLEASE RSVP HERE</a></p>\n</div>\n
LOCATION:Grand River Cellars 5750 S Madison Rd\, Madison\, OH 44057
UID:e.537.2709
SEQUENCE:3
DTSTAMP:20260424T201748Z
URL:https://business.wwlcchamber.com/events/details/talk-taste-for-businesses-in-the-tri-county-area-2709
END:VEVENT

END:VCALENDAR
