BEGIN:VCALENDAR
VERSION:2.0
PRODID:-//ChamberMaster//Event Calendar 2.0//EN
METHOD:PUBLISH
X-PUBLISHED-TTL:P3D
REFRESH-INTERVAL:P3D
CALSCALE:GREGORIAN
BEGIN:VEVENT
DTSTART:20230916T140000Z
DTEND:20230916T190000Z
X-MICROSOFT-CDO-ALLDAYEVENT:FALSE
SUMMARY:September Pop-Up Market
DESCRIPTION:Mark your calendars and SAVE THE DATE!\n\nOur Fall Pop-Up Market will feature a variety of local vendors for an afternoon of shopping fun! This event is FREE!\n\nLocal Food Vendors include - East Coast Custard\, Chef T's Bar-B-Que\, and D'Atonelli's wood fired pizza.\n\nLocal Artists include - Permanent Jewelry\, Sweet Bean Chocolates\, Cozy Nose\, Dog Treats\, Skin Care from Natural Revival Skin Care\, Helicopter Daughter\, and so much more!\n\n\n\nWatch for Vendor Spotlights on Facebook and Instagram for Vendor Spotlights!
X-ALT-DESC;FMTTYPE=text/html:<p>Mark your calendars and SAVE THE DATE!</p>\n\n<p>Our Fall Pop-Up Market will feature a variety of local vendors for an afternoon of shopping fun! This event is FREE!</p>\n\n<p>Local Food Vendors include - East Coast Custard\, Chef T&#39\;s Bar-B-Que\, and D&#39\;Atonelli&#39\;s wood fired pizza.<br />\nLocal Artists include - Permanent Jewelry\, Sweet Bean Chocolates\, Cozy Nose\, Dog Treats\, Skin Care from Natural Revival Skin Care\, Helicopter Daughter\, and so much more!<br />\n<br />\nWatch for Vendor Spotlights on Facebook and Instagram for Vendor Spotlights!<br />\n&nbsp\;</p>\n
LOCATION:Willoughby Workspaces at The Charlton Abbott 37903 Euclid Ave Willoughby OH 44094
UID:e.537.2646
SEQUENCE:3
DTSTAMP:20260419T125547Z
URL:https://business.wwlcchamber.com/events/details/september-pop-up-market-2646
END:VEVENT

END:VCALENDAR
