BEGIN:VCALENDAR
VERSION:2.0
PRODID:-//ChamberMaster//Event Calendar 2.0//EN
METHOD:PUBLISH
X-PUBLISHED-TTL:P3D
REFRESH-INTERVAL:P3D
CALSCALE:GREGORIAN
BEGIN:VEVENT
DTSTART:20191119T150000Z
DTEND:20191119T170000Z
X-MICROSOFT-CDO-ALLDAYEVENT:FALSE
SUMMARY:QuickBooks Online: For the Small Business Owner on the Go!
DESCRIPTION:In order to make better business decisions\, business owners need an accounting system that can be accessible from anywhere and anytime. Quickbooks Online (QBO) may be the solution to your problems.\n\nThis class is designed for small business owners\, managers\, and accounting staff who want to know: How the system works? Is it secured? What version is good for my business? How to navigate QBO? How QBO can help me save time?\n\nIf you are thinking about utilizing QBO for your company\, this class will help you make the right decision. Existing users will benefit by learning to navigate the system more efficiently.\n\nList of Topics include: \n\n\n	Converting from QuickBooks Desktop to QuickBooks Online.\n	Introduction to QuickBooks Online. \n	Navigating QuickBooks Online. \n	Chart of Accounts. \n	Product and Services. \n	Vendors\, Expenses & Purchases. \n	Time Tracking\, Employees & Subcontractors. \n	Customers and Sales Transactions.\n\n\nThis workshop takes place at Lakeland Community College's Holden University Center. \n\nSeating is limited so Register Today!  \n\n\n\nInstructor:\n\nGeorge Pimentel\, Small Business Accounting Services\, LLC\n\n\n\nOrganized By:\n\nLakeland Community College Entrepreneurship Center
X-ALT-DESC;FMTTYPE=text/html:<p><strong>In order to make better business decisions\, business owners need an accounting system that can be accessible from anywhere and anytime. Quickbooks Online (QBO) may be the solution to your problems.</strong></p>\n\n<p><strong>This class is designed for small business owners\, managers\, and accounting staff who want to know: How the system works? Is it secured? What version is good for my business? How to navigate QBO? How QBO can help me save time?</strong></p>\n\n<p><strong>If you are thinking about utilizing QBO for your company\, this class will help you make the right decision. Existing users will benefit by learning to navigate the system more efficiently.</strong></p>\n\n<p><strong>List of Topics include: </strong></p>\n\n<ol>\n	<li><strong>Converting from QuickBooks Desktop to QuickBooks Online.</strong></li>\n	<li><strong>Introduction to QuickBooks Online. </strong></li>\n	<li><strong>Navigating QuickBooks Online. </strong></li>\n	<li><strong>Chart of Accounts. </strong></li>\n	<li><strong>Product and Services. </strong></li>\n	<li><strong>Vendors\, Expenses &amp\; Purchases. </strong></li>\n	<li><strong>Time Tracking\, Employees &amp\; Subcontractors. </strong></li>\n	<li><strong>Customers and Sales Transactions.</strong></li>\n</ol>\n\n<p><strong>This workshop takes place at Lakeland Community College&#39\;s Holden University Center.&nbsp\;<br />\nSeating is limited so Register Today!&nbsp\;&nbsp\;<br />\n<br />\n<u>Instructor:</u><br />\nGeorge Pimentel\, Small Business Accounting Services\, LLC<br />\n<br />\n<u>Organized By:</u><br />\nLakeland Community College Entrepreneurship Center</strong><br />\n<br />\n&nbsp\;</p>\n
LOCATION:Lakeland Community College's Holden University Center 4242 OH-306\, Kirtland\, OH 44094
UID:e.537.1745
SEQUENCE:3
DTSTAMP:20260420T171621Z
URL:https://business.wwlcchamber.com/events/details/quickbooks-online-for-the-small-business-owner-on-the-go-1745
END:VEVENT

END:VCALENDAR
