BEGIN:VCALENDAR
VERSION:2.0
PRODID:-//ChamberMaster//Event Calendar 2.0//EN
METHOD:PUBLISH
X-PUBLISHED-TTL:P3D
REFRESH-INTERVAL:P3D
CALSCALE:GREGORIAN
BEGIN:VEVENT
DTSTART:20191010T213000Z
DTEND:20191010T233000Z
X-MICROSOFT-CDO-ALLDAYEVENT:FALSE
SUMMARY:Premier Business After Hours Fall Tasting at D&S Automotive
DESCRIPTION:Come on out to D&S Automotive for their Fall Tasting Business After Hours event this October\, as they bring together many of the local Northeast Ohio Chambers under our roof! This isn't your average networking event\; this is going to be a fun\, after-work gathering among local professionals. Don't be the one who misses out!  Register here!\n\n \n\n\n\nDate and Time\n\nThursday\, October 10th\, 2019  |  5:30pm   7:30pm\n\nLocation\n\nD&S Automotive | 7588 Tyler Boulevard | Mentor\, OH 44060\n\n \n\n\nComplete with giveaways\, free food and drinks (yes\, that includes beer and wine!)\, and some laid-back networking\, you'll want to mark this event in your calendar today!\n\nTop Reasons to Attend:\n\n\n	Network with great people from local businesses and chambers\n	FREE food and drinks\n	Chance to win great prizes\n\n\nChambers Attending:\n\n\n	Mentor area Chamber of Commerce\n	Willoughby Western Lake County Chamber of Commerce\n	Chardon Chamber of Commerce\n	Eastern Lake County Chamber of Commerce
X-ALT-DESC;FMTTYPE=text/html:<p>Come on out to D&amp\;S Automotive for their Fall Tasting Business After Hours&nbsp\;event this October\, as they bring together many of the local Northeast Ohio&nbsp\;Chambers under our roof! This isn&rsquo\;t your average networking event\; this is going to be a fun\, after-work gathering among local professionals. Don&rsquo\;t be the one who misses&nbsp\;out!&nbsp\; <a href="https://www.dsautomotive.com/chamber-event/">Register here!</a><br />\n&nbsp\;</p>\n\n<div>\n<hr />\n<h2 style="text-align: center\;">Date and Time</h2>\n\n<p style="text-align: center\;">Thursday\, October 10th\, 2019&nbsp\; | &nbsp\;5:30pm &ndash\; 7:30pm</p>\n\n<h2 style="text-align: center\;">Location</h2>\n\n<p style="text-align: center\;">D&amp\;S Automotive&nbsp\;|&nbsp\;7588 Tyler Boulevard | Mentor\, OH 44060<br />\n&nbsp\;</p>\n\n<hr />\n<p>Complete with giveaways\, free food and drinks (yes\, that includes beer and wine!)\, and some laid-back networking\, you&rsquo\;ll want to mark this event in your calendar today!</p>\n\n<h3>Top Reasons to Attend:</h3>\n\n<ol>\n	<li>Network with great people from local businesses and chambers</li>\n	<li>FREE&nbsp\;food and drinks</li>\n	<li>Chance to win great prizes</li>\n</ol>\n\n<h3>Chambers Attending:</h3>\n\n<ul>\n	<li>Mentor area Chamber of Commerce</li>\n	<li>Willoughby Western Lake County Chamber of Commerce</li>\n	<li>Chardon Chamber of Commerce</li>\n	<li>Eastern Lake County Chamber of Commerce</li>\n</ul>\n</div>\n
LOCATION:D&S Automotive 7588 Tyler Blvd. Mentor\, OH 44060
UID:e.537.1315
SEQUENCE:3
DTSTAMP:20260420T184459Z
URL:https://business.wwlcchamber.com/events/details/premier-business-after-hours-fall-tasting-at-d-s-automotive-1315
END:VEVENT

END:VCALENDAR
