BEGIN:VCALENDAR
VERSION:2.0
PRODID:-//ChamberMaster//Event Calendar 2.0//EN
METHOD:PUBLISH
X-PUBLISHED-TTL:P3D
REFRESH-INTERVAL:P3D
CALSCALE:GREGORIAN
BEGIN:VEVENT
DTSTART:20191105T220000Z
DTEND:20191106T003000Z
X-MICROSOFT-CDO-ALLDAYEVENT:FALSE
SUMMARY:Northeast Ohio B2B Networking- Potluck Style!
DESCRIPTION:This event is free and open to anyone doing business or connecting with businesses in Northeast Ohio. This is an informal gathering of professionals who want to meet others.\n\n\n\nFood:\n\n\n\nBring your favorite fall dish to pass! (please let us know what you would like to bring)\n\n\n\nDrinks:\n\n\n\nProvided- if you know someone who locally makes beer/wine/spirits we would love to showcase them!\n\n\n\nWho can attend?\n\n\n\nEntrepreneurs starting a new product/service and need some guidance \n\nNetworkers who want to meet new people in an open setting\n\nJob seekers who want to meet prospective new employers\n\nBusiness owners who wish to meet new service providers\n\nARE YOU AN ENTREPRENEUR DEVELOPING A NEW PRODUCT? Please let us know\, and you can present to the group at the meeting for immediate feedback.\n\n\n\nThe purpose of this networking group:\n\n\n\nExpand our networks\n\nLearn about new and upcoming products/services \n\nMeet local entrepreneurs\n\nGain mentorship opportunities\n\nThe rules for the group:\n\n\n\nNo cliques or sub-groups designed to keep out newcomers or other business owners\n\nNo one may negatively criticize others or create a harmful environment\n\nBring a friend!\n\nLearn something\n\nMeet someone new\n\n\n\nPLEASE RSVP SO WE CAN ACCOMODATE FOOD/DRINKS APPROPRIATELY
X-ALT-DESC;FMTTYPE=text/html:<span style="color: rgb(57\, 54\, 79)\; font-family: neue plak\,-apple-system\,blinkmacsystemfont\,roboto\,helvetica neue\,helvetica\,tahoma\,arial\,sans-serif\; font-size: 14.93px\; background-color: rgb(255\, 255\, 255)\;">This event is free and open to anyone doing business or connecting with businesses in Northeast Ohio. This is an informal gathering of professionals who want to meet others.</span><br />\n<br />\n<span style="color: rgb(57\, 54\, 79)\; font-family: neue plak\,-apple-system\,blinkmacsystemfont\,roboto\,helvetica neue\,helvetica\,tahoma\,arial\,sans-serif\; font-size: 14.93px\; background-color: rgb(255\, 255\, 255)\;">Food:</span><br />\n<br />\n<span style="color: rgb(57\, 54\, 79)\; font-family: neue plak\,-apple-system\,blinkmacsystemfont\,roboto\,helvetica neue\,helvetica\,tahoma\,arial\,sans-serif\; font-size: 14.93px\; background-color: rgb(255\, 255\, 255)\;">Bring your favorite fall dish to pass! (please let us know what you would like to bring)</span><br />\n<br />\n<span style="color: rgb(57\, 54\, 79)\; font-family: neue plak\,-apple-system\,blinkmacsystemfont\,roboto\,helvetica neue\,helvetica\,tahoma\,arial\,sans-serif\; font-size: 14.93px\; background-color: rgb(255\, 255\, 255)\;">Drinks:</span><br />\n<br />\n<span style="color: rgb(57\, 54\, 79)\; font-family: neue plak\,-apple-system\,blinkmacsystemfont\,roboto\,helvetica neue\,helvetica\,tahoma\,arial\,sans-serif\; font-size: 14.93px\; background-color: rgb(255\, 255\, 255)\;">Provided- if you know someone who locally makes beer/wine/spirits we would love to showcase them!</span><br />\n<br />\n<span style="color: rgb(57\, 54\, 79)\; font-family: neue plak\,-apple-system\,blinkmacsystemfont\,roboto\,helvetica neue\,helvetica\,tahoma\,arial\,sans-serif\; font-size: 14.93px\; background-color: rgb(255\, 255\, 255)\;">Who can attend?</span><br />\n<br />\n<span style="color: rgb(57\, 54\, 79)\; font-family: neue plak\,-apple-system\,blinkmacsystemfont\,roboto\,helvetica neue\,helvetica\,tahoma\,arial\,sans-serif\; font-size: 14.93px\; background-color: rgb(255\, 255\, 255)\;">Entrepreneurs starting a new product/service and need some guidance&nbsp\;</span><br />\n<span style="color: rgb(57\, 54\, 79)\; font-family: neue plak\,-apple-system\,blinkmacsystemfont\,roboto\,helvetica neue\,helvetica\,tahoma\,arial\,sans-serif\; font-size: 14.93px\; background-color: rgb(255\, 255\, 255)\;">Networkers who want to meet new people in an open setting</span><br />\n<span style="color: rgb(57\, 54\, 79)\; font-family: neue plak\,-apple-system\,blinkmacsystemfont\,roboto\,helvetica neue\,helvetica\,tahoma\,arial\,sans-serif\; font-size: 14.93px\; background-color: rgb(255\, 255\, 255)\;">Job seekers who want to meet prospective new employers</span><br />\n<span style="color: rgb(57\, 54\, 79)\; font-family: neue plak\,-apple-system\,blinkmacsystemfont\,roboto\,helvetica neue\,helvetica\,tahoma\,arial\,sans-serif\; font-size: 14.93px\; background-color: rgb(255\, 255\, 255)\;">Business owners who wish to meet new service providers</span><br />\n<span style="color: rgb(57\, 54\, 79)\; font-family: neue plak\,-apple-system\,blinkmacsystemfont\,roboto\,helvetica neue\,helvetica\,tahoma\,arial\,sans-serif\; font-size: 14.93px\; background-color: rgb(255\, 255\, 255)\;">ARE YOU AN ENTREPRENEUR DEVELOPING A NEW PRODUCT? Please let us know\, and you can present to the group at the meeting for immediate feedback.</span><br />\n<br />\n<span style="color: rgb(57\, 54\, 79)\; font-family: neue plak\,-apple-system\,blinkmacsystemfont\,roboto\,helvetica neue\,helvetica\,tahoma\,arial\,sans-serif\; font-size: 14.93px\; background-color: rgb(255\, 255\, 255)\;">The purpose of this networking group:</span><br />\n<br />\n<span style="color: rgb(57\, 54\, 79)\; font-family: neue plak\,-apple-system\,blinkmacsystemfont\,roboto\,helvetica neue\,helvetica\,tahoma\,arial\,sans-serif\; font-size: 14.93px\; background-color: rgb(255\, 255\, 255)\;">Expand our networks</span><br />\n<span style="color: rgb(57\, 54\, 79)\; font-family: neue plak\,-apple-system\,blinkmacsystemfont\,roboto\,helvetica neue\,helvetica\,tahoma\,arial\,sans-serif\; font-size: 14.93px\; background-color: rgb(255\, 255\, 255)\;">Learn about new and upcoming products/services&nbsp\;</span><br />\n<span style="color: rgb(57\, 54\, 79)\; font-family: neue plak\,-apple-system\,blinkmacsystemfont\,roboto\,helvetica neue\,helvetica\,tahoma\,arial\,sans-serif\; font-size: 14.93px\; background-color: rgb(255\, 255\, 255)\;">Meet local entrepreneurs</span><br />\n<span style="color: rgb(57\, 54\, 79)\; font-family: neue plak\,-apple-system\,blinkmacsystemfont\,roboto\,helvetica neue\,helvetica\,tahoma\,arial\,sans-serif\; font-size: 14.93px\; background-color: rgb(255\, 255\, 255)\;">Gain mentorship opportunities</span><br />\n<span style="color: rgb(57\, 54\, 79)\; font-family: neue plak\,-apple-system\,blinkmacsystemfont\,roboto\,helvetica neue\,helvetica\,tahoma\,arial\,sans-serif\; font-size: 14.93px\; background-color: rgb(255\, 255\, 255)\;">The rules for the group:</span><br />\n<br />\n<span style="color: rgb(57\, 54\, 79)\; font-family: neue plak\,-apple-system\,blinkmacsystemfont\,roboto\,helvetica neue\,helvetica\,tahoma\,arial\,sans-serif\; font-size: 14.93px\; background-color: rgb(255\, 255\, 255)\;">No cliques or sub-groups designed to keep out newcomers or other business owners</span><br />\n<span style="color: rgb(57\, 54\, 79)\; font-family: neue plak\,-apple-system\,blinkmacsystemfont\,roboto\,helvetica neue\,helvetica\,tahoma\,arial\,sans-serif\; font-size: 14.93px\; background-color: rgb(255\, 255\, 255)\;">No one may negatively criticize others or create a harmful environment</span><br />\n<span style="color: rgb(57\, 54\, 79)\; font-family: neue plak\,-apple-system\,blinkmacsystemfont\,roboto\,helvetica neue\,helvetica\,tahoma\,arial\,sans-serif\; font-size: 14.93px\; background-color: rgb(255\, 255\, 255)\;">Bring a friend!</span><br />\n<span style="color: rgb(57\, 54\, 79)\; font-family: neue plak\,-apple-system\,blinkmacsystemfont\,roboto\,helvetica neue\,helvetica\,tahoma\,arial\,sans-serif\; font-size: 14.93px\; background-color: rgb(255\, 255\, 255)\;">Learn something</span><br />\n<span style="color: rgb(57\, 54\, 79)\; font-family: neue plak\,-apple-system\,blinkmacsystemfont\,roboto\,helvetica neue\,helvetica\,tahoma\,arial\,sans-serif\; font-size: 14.93px\; background-color: rgb(255\, 255\, 255)\;">Meet someone new</span><br />\n<br />\n<span style="color: rgb(57\, 54\, 79)\; font-family: neue plak\,-apple-system\,blinkmacsystemfont\,roboto\,helvetica neue\,helvetica\,tahoma\,arial\,sans-serif\; font-size: 14.93px\; background-color: rgb(255\, 255\, 255)\;">PLEASE RSVP SO WE CAN ACCOMODATE FOOD/DRINKS APPROPRIATELY</span><br />\n<br />\n&nbsp\;
LOCATION:Willoughby General Store Upstairs of Fiona's 4148 Erie Street Willoughby\, OH 44094
UID:e.537.1719
SEQUENCE:3
DTSTAMP:20260420T171223Z
URL:https://business.wwlcchamber.com/events/details/northeast-ohio-b2b-networking-potluck-style-1719
END:VEVENT

END:VCALENDAR
