BEGIN:VCALENDAR
VERSION:2.0
PRODID:-//ChamberMaster//Event Calendar 2.0//EN
METHOD:PUBLISH
X-PUBLISHED-TTL:P3D
REFRESH-INTERVAL:P3D
CALSCALE:GREGORIAN
BEGIN:VEVENT
DTSTART:20200604T123000Z
DTEND:20200604T140000Z
X-MICROSOFT-CDO-ALLDAYEVENT:FALSE
SUMMARY:Modifying Your CEO Toolbox Free Webinar Series
DESCRIPTION:Is your business experiencing pain points specific to COVID-19? Do you have the right tools to deal with them? If you are a business owner with employees located in Lake County or Geauga County and have multiple layers of management\, then these five free webinar workshops can help you develop the knowledge and resources to overcome the issues that may be slowing down your business' recovery.\n\nThese workshops will help you:\n\n\n	Develop the knowledge to speed up your business recovery.\n	Provide you with direct access to professionals with key expertise.\n	Develop fresh ideas around human capital\, cash flow\, inventory\, time management and future preparedness.\n	Get your questions answered and share best practices with other business owners. \n\n\nWorkshop #1: Impact on Human Capital:\n\nMay 28\, 2020 from 8:30am to 10am\n\nRecognize and review the complexities facing businesses as they manage their largest and most valuable asset-their people. COVID-19 has certainly added to those complexities. Topics included: Leveraging Your Strengths\, Strengthening Your Gaps\, Compliance\, Leveraging Resources and Important Links to Resources.\n\n \n\nWorkshop #2: Financial Performance:\n\nJune 4\, 2020 from 8:30am to 10am\n\nDuring this COVID-19 Crisis\, many small business owners are struggling to maintain revenues and maximize their cashflow in more creative ways. Topics included: Receivables\, Payables\, Maintain Revenues\, Increase Revenues\, Capitalize on Cost Savings and Finding Loans.\n\n \n\nWorkshop #3: Stress Test Policy and Performance: \n\nJune 11\, 2020 from 8:30am to 10am\n\nDeveloping safety protocols\, setting expectations and knowing how to communicate to employees\, customers and vendors during a crisis is crucial to the well being of your business. Topics included: Safety Protocols\, Expectations/Anxieties\, Communication in the Workplace\, Changes to Workflow\, Validating Effectiveness\, Mindsets of the Customer and Mindsets of the Vendor.\n\n \n\nWorkshop #4: Sales Cycle and Inventory:\n\nJune 18\, 2020 from 8:30am to 10am\n\nManaging your sales orders and controlling your inventory in order to maintain customer expectations is vital to any business success. Topics included: Sales Cycle Time Frame\, Your Company Inventory Levels and Vendor Inventories.\n\n \n\nWorkshop #5: Disaster Recovery Planning:\n\nJune 25\, 2020 from 8:30am to 10am\n\nDeveloping your recovery plan during a crisis can be overwhelming for any business owner. This webinar workshop will help you identify\, plan and implement the necessary steps to get your business back up and running the way it should. Topics included:  \n\n\n	Identify- Goals\, Critical Business Functions and Hazards \n	Plan- Impact Analysis\, Emergency Response and Procedures\, Communication\, Continuity Plan and Prevention \n	Implement-Risk Management\, Training\, Testing\, and Allocation of Resources.\n	Recover-Strategies\, Insurance and SBA Disaster Assistance.\n\nRegistration Deadline is May 27\, 2020 at 12pm. These workshops will be hosted by Geagua Growth Partnership and moderated by David Levy of Corporate Support Services and Solutions Group. Each session will run for 60 to 90 minutes. Organized and Sponsored by the Ohio SBDC at Lakeland Community College.
X-ALT-DESC;FMTTYPE=text/html:<p><span style="font-size:14px"><span style="font-family:arial\,verdana\,helvetica\,sans-serif">Is your business experiencing pain points specific to COVID-19? Do you have the right tools to deal with them?<strong>&nbsp\;</strong>If you are a business owner with employees located in Lake County or&nbsp\;<span style="font-family:arial\,helvetica\,sans-serif">Geauga County and have multiple layers of management\, then these five free webinar workshops can help you develop the knowledge and resources to overcome the issues that may be slowing down y</span>our business&#39\; recovery.</span></span></p>\n\n<div><span style="font-size:14px"><span style="font-family:arial\,helvetica\,sans-serif">These workshops will help you:</span></span></div>\n\n<ul>\n	<li><span style="font-size:14px"><span style="font-family:arial\,helvetica\,sans-serif">Develop the knowledge to speed up your business recovery.</span></span></li>\n	<li><span style="font-size:14px"><span style="font-family:arial\,helvetica\,sans-serif">Provide you with direct access to professionals with key expertise.</span></span></li>\n	<li><span style="font-size:14px"><span style="font-family:arial\,helvetica\,sans-serif">Develop fresh ideas around human capital\, cash flow\, inventory\, time management and future preparedness.</span></span></li>\n	<li><span style="font-size:14px"><span style="font-family:arial\,helvetica\,sans-serif">Get your questions answered and share best practices with other business owners.&nbsp\;</span></span></li>\n</ul>\n\n<div><span style="font-size:14px"><span style="font-family:arial\,helvetica\,sans-serif">Workshop #1: Impact on Human Capital:</span></span></div>\n\n<div><span style="font-size:14px"><span style="font-family:arial\,helvetica\,sans-serif"><em>May 28\, 2020 from 8:30am to 10am</em></span></span></div>\n\n<div><span style="font-size:14px"><span style="font-family:arial\,helvetica\,sans-serif">Recognize and review the complexities facing businesses as they manage their largest and most valuable asset-their people. COVID-19 has certainly added to those complexities. Topics included: Leveraging Your Strengths\, Strengthening Your Gaps\, Compliance\, Leveraging Resources and Important Links to Resources.</span></span></div>\n\n<div>&nbsp\;</div>\n\n<div><span style="font-size:14px"><span style="font-family:arial\,helvetica\,sans-serif">Workshop #2: Financial Performance:</span></span></div>\n\n<div><span style="font-size:14px"><span style="font-family:arial\,helvetica\,sans-serif"><em>June 4\, 2020 from 8:30am to 10am</em></span></span></div>\n\n<div><span style="font-size:14px"><span style="font-family:arial\,helvetica\,sans-serif">During this COVID-19 Crisis\, many small business owners are struggling to maintain revenues and maximize their cashflow in more creative ways. Topics included: Receivables\, Payables\, Maintain Revenues\, Increase Revenues\, Capitalize on Cost Savings and Finding Loans.</span></span></div>\n\n<div>&nbsp\;</div>\n\n<div><span style="font-size:14px"><span style="font-family:arial\,helvetica\,sans-serif">Workshop #3: Stress Test Policy and Performance:&nbsp\;</span></span></div>\n\n<div><span style="font-size:14px"><span style="font-family:arial\,helvetica\,sans-serif"><em>June 11\, 2020 from 8:30am to 10am</em></span></span></div>\n\n<div><span style="font-size:14px"><span style="font-family:arial\,helvetica\,sans-serif">Developing safety protocols\, setting expectations and knowing how to communicate to employees\, customers and vendors during a crisis is crucial to the well being of your business. Topics included: Safety Protocols\, Expectations/Anxieties\, Communication in the Workplace\, Changes to Workflow\, Validating Effectiveness\, Mindsets of the Customer and Mindsets of the Vendor.</span></span></div>\n\n<div>&nbsp\;</div>\n\n<div><span style="font-size:14px"><span style="font-family:arial\,helvetica\,sans-serif">Workshop #4: Sales Cycle and Inventory:</span></span></div>\n\n<div><span style="font-size:14px"><span style="font-family:arial\,helvetica\,sans-serif"><em>June 18\, 2020 from 8:30am to 10am</em></span></span></div>\n\n<div><span style="font-size:14px"><span style="font-family:arial\,helvetica\,sans-serif">Managing your sales orders and controlling your inventory in order to maintain customer expectations is vital to any business success. Topics included: Sales Cycle Time Frame\, Your Company Inventory Levels and Vendor Inventories.</span></span></div>\n\n<div>&nbsp\;</div>\n\n<div><span style="font-size:14px"><span style="font-family:arial\,helvetica\,sans-serif">Workshop #5: Disaster Recovery Planning:</span></span></div>\n\n<div><span style="font-size:14px"><span style="font-family:arial\,helvetica\,sans-serif"><em>June 25\, 2020 from 8:30am to 10am</em></span></span></div>\n\n<div><span style="font-size:14px"><span style="font-family:arial\,helvetica\,sans-serif">Developing your recovery plan during a crisis can be overwhelming for any business owner. This webinar workshop will help you identify\, plan and implement the necessary steps to get your business back up and running the way it should. Topics included: &nbsp\;</span></span></div>\n\n<ol>\n	<li><span style="font-size:14px"><span style="font-family:arial\,helvetica\,sans-serif">Identify- Goals\, Critical Business Functions and Hazards&nbsp\;</span></span></li>\n	<li><span style="font-size:14px"><span style="font-family:arial\,helvetica\,sans-serif">Plan- Impact Analysis\, Emergency Response and Procedures\, Communication\, Continuity Plan and Prevention&nbsp\;</span></span></li>\n	<li><span style="font-size:14px"><span style="font-family:arial\,helvetica\,sans-serif">Implement-Risk Management\, Training\, Testing\, and Allocation of Resources.</span></span></li>\n	<li><span style="font-size:14px"><span style="font-family:arial\,helvetica\,sans-serif">Recover-Strategies\, Insurance and SBA Disaster Assistance.</span></span></li>\n</ol>\n<span style="font-family:sans-serif\,arial\,verdana\,trebuchet ms\; font-size:14px"><span style="font-family:arial\,verdana\,helvetica\,sans-serif">Registration Deadline is May 27\, 2020 at 12pm.&nbsp\;</span><span style="font-family:arial\,helvetica\,sans-serif">These workshops will be hosted by Geagua Growth Partnership and moderated by David Levy of Corporate Support Services and Solutions Group. Each session will run for 60 to 90 minutes. Organized and Sponsored by the Ohio SBDC at Lakeland Community College.</span></span>
LOCATION:Webinars organized by the Ohio SBDC at Lakeland C.C.
UID:e.537.1842
SEQUENCE:3
DTSTAMP:20260420T081315Z
URL:https://business.wwlcchamber.com/events/details/modifying-your-ceo-toolbox-free-webinar-series-06-04-2020-1842
END:VEVENT

END:VCALENDAR
