BEGIN:VCALENDAR
VERSION:2.0
PRODID:-//ChamberMaster//Event Calendar 2.0//EN
METHOD:PUBLISH
X-PUBLISHED-TTL:P3D
REFRESH-INTERVAL:P3D
CALSCALE:GREGORIAN
BEGIN:VEVENT
DTSTART;VALUE=DATE:20240506
DTEND;VALUE=DATE:20240507
TRANSP:TRANSPARENT
X-MICROSOFT-CDO-ALLDAYEVENT:TRUE
SUMMARY:Melanoma Monday- Free Spot Checks
DESCRIPTION:Did you know that 1 in 5 Americans will get skin cancer? May is skin cancer awareness month and we are showing our commitment to you by offering FREE skin cancer spot checks at All Apex Locations.\n\nOur mission at Apex is to transform lives through healthy skin\, and that includes detecting and curing skin cancer! At Apex\, our providers have cured over 75\,000 skin cancers!
X-ALT-DESC;FMTTYPE=text/html:<p><strong>Did you know</strong>&nbsp\;that 1 in 5 Americans will get skin cancer? May is skin cancer awareness month and we are showing our commitment to you by offering FREE skin cancer spot checks&nbsp\;<strong>at All Apex Locations</strong>.</p>\n\n<p>Our mission at Apex is to transform lives through healthy skin\, and that includes detecting and curing skin cancer! At Apex\, our providers have cured over 75\,000 skin cancers!</p>\n
LOCATION:Apex Skin: All Locations
UID:e.537.2708
SEQUENCE:3
DTSTAMP:20260424T201625Z
URL:https://business.wwlcchamber.com/events/details/melanoma-monday-free-spot-checks-2708
END:VEVENT

END:VCALENDAR
