BEGIN:VCALENDAR
VERSION:2.0
PRODID:-//ChamberMaster//Event Calendar 2.0//EN
METHOD:PUBLISH
X-PUBLISHED-TTL:P3D
REFRESH-INTERVAL:P3D
CALSCALE:GREGORIAN
BEGIN:VEVENT
DTSTART:20191101T213000Z
DTEND:20191102T023000Z
X-MICROSOFT-CDO-ALLDAYEVENT:FALSE
SUMMARY:McKinley Outreach Center Dinner & Reverse Raffle
DESCRIPTION:Body of Christ Dinner & Reverse Raffle Drawing\n\nGrand Prize $2000\n\n\n	\n		\n			\n			 \n			\n		\n	\n\n\n\n                  Family Style Dinner at 6:15 PM                  \n\n                               Music by Flashbaxx                       \n\n              Dancing with the No Name Band       \n\n\n	\n		\n			\n			   \n			\n		\n	\n\n               8.30-10.30 PM                    \n\n      .                   -  -  :    '    reverse drawing  (all 200 numbers drawn)  \n\nsideboards    fifty-fifty    chinese auction\n\nTICKET FOR TWO I $90 (CASH BAR)-$110 (OPEN BAR)\n\nTICKET FOR ONE  I  $55 (CASH BAR) - $65 (OPEN BAR)\n\nProceeds to Body of Christ Ministries I McKinley Outreach Center\n\nClick Here for more information
X-ALT-DESC;FMTTYPE=text/html:<h2 align="center" style="margin: 10.4pt 48pt 0pt 0in\; text-align: center\; punctuation-wrap: simple\;">&nbsp\;</h2>\n\n<div style="text-align: center\;"><span style="font-size: 20px\;"><strong>&nbsp\;Body of Christ Dinner &amp\; Reverse Raffle Drawing<br />\nGrand Prize $2000</strong></span>\n\n<table cellpadding="0" cellspacing="0" width="100%">\n	<tbody>\n		<tr>\n			<td style="border: rgb(0\, 0\, 0)\; border-image: none\;">\n			<div style="padding: 0pt\;"><span style="font-size: 20px\;"><strong>&nbsp\;</strong></span></div>\n			</td>\n		</tr>\n	</tbody>\n</table>\n</div>\n\n<div style="text-align: center\;"><span style="font-family: times new roman\;"><span style="font-size: 18.5pt\;"><span style="color: rgb(31\, 28\, 24)\;">&nbsp\;&nbsp\;&nbsp\;&nbsp\;&nbsp\;&nbsp\;&nbsp\;&nbsp\;&nbsp\;&nbsp\;&nbsp\;&nbsp\;&nbsp\;&nbsp\;&nbsp\;&nbsp\;&nbsp\; Family Style Dinner at 6:15 </span></span></span><span style="font-size: 14pt\;"><span style="color: rgb(31\, 28\, 24)\;">PM&nbsp\;&nbsp\;&nbsp\;&nbsp\;&nbsp\;&nbsp\;&nbsp\;&nbsp\;&nbsp\;&nbsp\;&nbsp\;&nbsp\;&nbsp\; </span></span>&nbsp\;&nbsp\;&nbsp\;&nbsp\;</div>\n\n<div style="text-align: center\;"><span style="font-size: 20px\;"><strong><span style="font-family: times new roman\;"><span style="font-size: 18.5pt\;"><span style="color: rgb(31\, 28\, 24)\;">&nbsp\;&nbsp\;&nbsp\;&nbsp\;&nbsp\;&nbsp\;&nbsp\;&nbsp\;&nbsp\;&nbsp\;&nbsp\;&nbsp\;&nbsp\;&nbsp\;&nbsp\;&nbsp\;&nbsp\;&nbsp\;&nbsp\;&nbsp\;&nbsp\;&nbsp\;&nbsp\;&nbsp\;&nbsp\;&nbsp\;&nbsp\;&nbsp\;&nbsp\;&nbsp\; Music </span></span></span><span style="font-size: 18pt\;"><span style="color: rgb(31\, 28\, 24)\;">by </span></span><em><span style="font-size: 20pt\;"><span style="color: rgb(31\, 28\, 24)\;">Flashbaxx&nbsp\;&nbsp\;&nbsp\;&nbsp\;&nbsp\;&nbsp\;&nbsp\;&nbsp\;&nbsp\;&nbsp\;&nbsp\;&nbsp\;&nbsp\;&nbsp\;&nbsp\;&nbsp\;&nbsp\;&nbsp\;&nbsp\;&nbsp\;&nbsp\;&nbsp\; </span></span></em><br />\n<span style="font-family: times new roman\;"><span style="font-size: 18.5pt\;"><span style="color: rgb(31\, 28\, 24)\;">&nbsp\;&nbsp\;&nbsp\;&nbsp\;&nbsp\;&nbsp\;&nbsp\;&nbsp\;&nbsp\;&nbsp\;&nbsp\;&nbsp\;&nbsp\; Dancing with the </span></span><em><span style="font-size: 20pt\;"><span style="color: rgb(31\, 28\, 24)\;">No Name Band&nbsp\;&nbsp\;&nbsp\;&nbsp\;&nbsp\;&nbsp\;&nbsp\;</span></span></em></span></strong></span>\n\n<table cellpadding="0" cellspacing="0" width="100%">\n	<tbody>\n		<tr>\n			<td style="border: rgb(0\, 0\, 0)\; border-image: none\;">\n			<div style="padding: 0pt\;"><span style="font-size: 20px\;"><strong><span style="font-family: times new roman\;">&nbsp\;&nbsp\; </span></strong></span></div>\n			</td>\n		</tr>\n	</tbody>\n</table>\n<span style="font-size: 20px\;"><strong><span style="font-size: medium\;"><span style="font-family: times new roman\;"><span style="font-size: 18.5pt\;"><span style="color: rgb(31\, 28\, 24)\;">&nbsp\;&nbsp\;&nbsp\;&nbsp\;&nbsp\;&nbsp\;&nbsp\;&nbsp\;&nbsp\;&nbsp\;&nbsp\;&nbsp\;&nbsp\;&nbsp\; 8.30-10.30 <sub>PM</sub>&nbsp\;&nbsp\;&nbsp\;&nbsp\;&nbsp\;&nbsp\;&nbsp\;&nbsp\;&nbsp\;&nbsp\;&nbsp\;&nbsp\;&nbsp\;&nbsp\;&nbsp\;&nbsp\;&nbsp\;&nbsp\;&nbsp\;&nbsp\;</span></span></span></span><br />\n&nbsp\;&nbsp\;&nbsp\;&nbsp\;&nbsp\; <span style="font-size: 2.5pt\;"><span style="font-family: arial\,sans-serif\;"><span style="color: rgb(151\, 172\, 177)\;">.&nbsp\;&nbsp\;&nbsp\;&nbsp\;&nbsp\;&nbsp\;&nbsp\;&nbsp\;&nbsp\;&nbsp\;&nbsp\;&nbsp\;&nbsp\;&nbsp\;&nbsp\;&nbsp\;&nbsp\;&nbsp\; </span></span></span><span style="font-size: 2.5pt\;"><span style="font-family: arial\,sans-serif\;"><span style="color: rgb(17\, 130\, 153)\;">-&nbsp\; </span></span></span><span style="font-size: 2.5pt\;"><span style="font-family: arial\,sans-serif\;"><span style="color: black\;">-&nbsp\; </span></span></span><span style="font-size: 2.5pt\;"><span style="font-family: arial\,sans-serif\;"><span style="color: rgb(121\, 161\, 181)\;">:&nbsp\;&nbsp\; &nbsp\;</span></span></span><span style="font-size: 2.5pt\;"><span style="font-family: arial\,sans-serif\;"><span style="color: black\;">&#39\;&nbsp\;&nbsp\;&nbsp\; </span></span></span><span style="font-size: large\;"><span style="font-family: times new roman\;"><span style="color: rgb(31\, 28\, 24)\;">reverse drawing&nbsp\; (all 200 numbers drawn)&nbsp\; </span></span></span><br />\n<span style="font-size: large\;"><span style="font-family: times new roman\;"><span style="color: rgb(31\, 28\, 24)\;">sideboards &bull\;&nbsp\; fifty-fifty&nbsp\; &bull\; chinese auction</span></span></span><br />\n<strong><span style="font-size: 15pt\;"><span style="color: rgb(31\, 28\, 24)\;"><span style="font-family: times new roman\;">TICKET FOR TWO </span></span></span></strong><span style="font-size: 19.5pt\;"><span style="font-family: arial\,sans-serif\;"><span style="color: rgb(31\, 28\, 24)\;">I </span></span></span><strong><span style="font-size: 14.5pt\;"><span style="color: rgb(31\, 28\, 24)\;"><span style="font-family: times new roman\;">$90 (CASH BAR)-$110 (OPEN BAR)</span></span></span></strong><br />\n<strong><span style="font-size: 15pt\;"><span style="color: rgb(31\, 28\, 24)\;"><span style="font-family: times new roman\;">TICKET FOR ONE &nbsp\;</span></span></span></strong><span style="font-size: 20pt\;"><span style="font-family: arial\,sans-serif\;"><span style="color: rgb(31\, 28\, 24)\;">I&nbsp\; </span></span></span><span style="font-family: times new roman\;"><strong><span style="font-size: 14.5pt\;"><span style="color: rgb(31\, 28\, 24)\;">$55 (CASH BAR) </span></span></strong><span style="font-size: 14.5pt\;"><span style="color: rgb(66\, 59\, 49)\;">- </span></span><strong><span style="font-size: 14.5pt\;"><span style="color: rgb(31\, 28\, 24)\;">$65 (OPEN BAR)</span></span></strong></span><br />\n<span style="font-family: times new roman\;"><em><span style="font-size: 14pt\;"><span style="color: rgb(31\, 28\, 24)\;">Proc</span></span></em><em><span style="font-size: 14pt\;"><span style="color: rgb(66\, 59\, 49)\;">e</span></span></em><em><span style="font-size: 14pt\;"><span style="color: rgb(31\, 28\, 24)\;">eds </span></span></em><em><span style="font-size: 12pt\;"><span style="color: rgb(31\, 28\, 24)\;">to </span></span></em><em><span style="font-size: 14pt\;"><span style="color: rgb(31\, 28\, 24)\;">Bod</span></span></em><em><span style="font-size: 14pt\;"><span style="color: rgb(66\, 59\, 49)\;">y </span></span></em><em><span style="font-size: 14pt\;"><span style="color: rgb(31\, 28\, 24)\;">of Chri</span></span></em><em><span style="font-size: 14pt\;"><span style="color: rgb(66\, 59\, 49)\;">s</span></span></em><em><span style="font-size: 14pt\;"><span style="color: rgb(31\, 28\, 24)\;">t Mini</span></span></em><em><span style="font-size: 14pt\;"><span style="color: rgb(66\, 59\, 49)\;">s</span></span></em><em><span style="font-size: 14pt\;"><span style="color: rgb(31\, 28\, 24)\;">tri</span></span></em><em><span style="font-size: 14pt\;"><span style="color: rgb(66\, 59\, 49)\;">e</span></span></em><em><span style="font-size: 14pt\;"><span style="color: rgb(31\, 28\, 24)\;">s </span></span></em><em><span style="font-size: 14pt\;"><span style="color: rgb(91\, 86\, 68)\;">I </span></span></em><em><span style="font-size: 14pt\;"><span style="color: rgb(31\, 28\, 24)\;">M</span></span></em><em><span style="font-size: 14pt\;"><span style="color: rgb(66\, 59\, 49)\;">c</span></span></em><em><span style="font-size: 14pt\;"><span style="color: rgb(31\, 28\, 24)\;">K</span></span></em><em><span style="font-size: 14pt\;"><span style="color: rgb(66\, 59\, 49)\;">i</span></span></em><em><span style="font-size: 14pt\;"><span style="color: rgb(31\, 28\, 24)\;">nl</span></span></em><em><span style="font-size: 14pt\;"><span style="color: rgb(66\, 59\, 49)\;">e</span></span></em><em><span style="font-size: 14pt\;"><span style="color: rgb(31\, 28\, 24)\;">y Out</span></span></em><em><span style="font-size: 14pt\;"><span style="color: rgb(66\, 59\, 49)\;">r</span></span></em><em><span style="font-size: 14pt\;"><span style="color: rgb(31\, 28\, 24)\;">each C</span></span></em><em><span style="font-size: 14pt\;"><span style="color: rgb(66\, 59\, 49)\;">e</span></span></em><em><span style="font-size: 14pt\;"><span style="color: rgb(31\, 28\, 24)\;">nt</span></span></em><em><span style="font-size: 14pt\;"><span style="color: rgb(66\, 59\, 49)\;">er</span></span></em></span><br />\n<a href="https://chambermaster.blob.core.windows.net/userfiles/UserFiles/chambers/537/File/20190924143216scanchurch.pdf">Click Here for more information</a> </strong></span></div>\n
LOCATION:Patrician Party Center - 33150 Lakeland Blvd.
UID:e.537.1729
SEQUENCE:3
DTSTAMP:20260420T171431Z
URL:https://business.wwlcchamber.com/events/details/mckinley-outreach-center-dinner-reverse-raffle-1729
END:VEVENT

END:VCALENDAR
