BEGIN:VCALENDAR
VERSION:2.0
PRODID:-//ChamberMaster//Event Calendar 2.0//EN
METHOD:PUBLISH
X-PUBLISHED-TTL:P3D
REFRESH-INTERVAL:P3D
CALSCALE:GREGORIAN
BEGIN:VEVENT
DTSTART:20200310T120000Z
DTEND:20200310T130000Z
X-MICROSOFT-CDO-ALLDAYEVENT:FALSE
SUMMARY:LOCATION CHANGE!!!! Coffee Networking at The Willoughby General Store
DESCRIPTION:PLEASE NOTE\n\nLOCATION CHANGE For Today's Coffee Networking\n\nCome Join the Chamber\n\nFor\n\nCoffee Networking\n\nAt\n\n \n\n	\n		\n			\n			Willoughby General Store\n			4148 Erie Street\n\n			2nd Floor\n\n			Willoughby\, OH 44094\n		\n	\n\n\n\nUntil we are confident that the spread of the coronavirus has subsided\, we are asking that members refrain from handshakes at Chamber meetings.  An elbow bump or foot tap will let people know that you are happy to meet them!\n\n\n\nThis event is free to chamber members\n\nNon-members $10.00\n\nDon't forget your business cards.\n\nAll attending will get 1 minute of "commercial" time
X-ALT-DESC;FMTTYPE=text/html:<div style="text-align: center\;"><span style="font-size:28px\;"><strong><u><span style="color: rgb(255\, 0\, 0)\;">PLEASE NOTE<br />\nLOCATION CHANGE For Today&#39\;s&nbsp\;Coffee Networking</span></u></strong></span><br />\n<strong><span style="font-size: 18px\;">Come Join the Chamber</span></strong></div>\n\n<div style="text-align: center\;"><strong><span style="font-size: 18px\;">For</span></strong><br />\n<strong><span style="font-size: 18px\;">Coffee Networking<br />\nAt</span></strong><br />\n&nbsp\;\n<table border="0" cellpadding="0" cellspacing="0" class="txtNormal" style="border-collapse: collapse\; border: 0px\; font-size: 13px\; color: rgb(51\, 51\, 51)\; font-family: Roboto\, sans-serif\; background-color: rgb(240\, 240\, 240)\;" width="100%">\n	<tbody style="border-color: rgb(133\, 133\, 133)\;">\n		<tr>\n			<td>\n			<div class="txtHeading" style="font-size: 16px\; line-height: 1.5\;"><strong><span style="color:#FF0000\;"><span style="font-size:22px\;">Willoughby General Store</span></span></strong></div>\n			<strong><span style="color:#FF0000\;"><span style="font-size:22px\;">4148 Erie Street<br />\n			2nd Floor<br />\n			Willoughby\, OH 44094</span></span></strong></td>\n		</tr>\n	</tbody>\n</table>\n<br />\n<span style="font-size:16px\;"><strong><span style="color:#000000\;"><span style="background-color:#FFD700\;">Until we are confident that the spread of the coronavirus has subsided\, we are asking that members refrain from handshakes at Chamber meetings.&nbsp\; An elbow bump or foot tap will let people know that you are happy to meet them!</span></span></strong></span><br />\n<br />\n<strong><span style="font-size: 18px\;">This event is free to chamber members<br />\nNon-members $10.00<br />\n<em>Don&#39\;t forget your business cards.<br />\nAll attending will get 1 minute of &quot\;commercial&quot\; time</em></span></strong></div>\n
LOCATION:Willoughby General Store 4148 Erie Street 2nd Floor Willoughby\, OH 44094
UID:e.537.1769
SEQUENCE:3
DTSTAMP:20260420T115629Z
URL:https://business.wwlcchamber.com/events/details/location-change-coffee-networking-at-the-willoughby-general-store-1769
END:VEVENT

END:VCALENDAR
