BEGIN:VCALENDAR
VERSION:2.0
PRODID:-//ChamberMaster//Event Calendar 2.0//EN
METHOD:PUBLISH
X-PUBLISHED-TTL:P3D
REFRESH-INTERVAL:P3D
CALSCALE:GREGORIAN
BEGIN:VEVENT
DTSTART:20191024T213000Z
DTEND:20191025T000000Z
X-MICROSOFT-CDO-ALLDAYEVENT:FALSE
SUMMARY:Lake County Top 4 Under 40
DESCRIPTION:4 Under 40\n\nJoin us for an evening where we'll be recognizing Lake County's best and brightest professionals!\n\n Reception will include heavy hors d'oeuvres and a cash bar will be available. \n\nLake County Chambers of Commerce Announce\n\n"Top 4 Under 40" Award Winners 2019\n\nTony Brzytwa\n\nCJ Paterniti\n\nAdam Sanden\n\nSara Spence
X-ALT-DESC;FMTTYPE=text/html:<div style="text-align: center\;"><br />\n<span style="font-size: medium\;"><span style="font-family: calibri\;"><span style="font-size: 22px\;"><strong>&nbsp\;4 Under 40</strong></span><br />\nJoin us for an evening where we&rsquo\;ll be recognizing Lake County&rsquo\;s best and brightest professionals!</span></span><br />\n<span style="font-size: medium\;"><span style="font-family: calibri\;">&nbsp\;Reception will include heavy hors d&#39\;oeuvres and a cash bar will be available.</span></span>&nbsp\;<br />\n<strong><span style="font-size: medium\;"><span style="font-family: calibri\;">Lake County Chambers of Commerce Announce<br />\n&ldquo\;Top 4 Under 40&rdquo\; Award Winners 2019</span></span></strong><br />\n<strong><span style="font-size: medium\;"><span style="font-family: calibri\;">Tony Brzytwa</span></span></strong><br />\n<strong><span style="font-size: medium\;"><span style="font-family: calibri\;">CJ Paterniti</span></span></strong><br />\n<strong><span style="font-size: medium\;"><span style="font-family: calibri\;">Adam Sanden</span></span></strong><br />\n<strong><span style="font-size: medium\;"><span style="font-family: calibri\;">Sara Spence</span></span></strong><br />\n<br />\n&nbsp\;</div>\n
LOCATION:Pastina 9354 Mentor Avenue Mentor\, OH 44060
UID:e.537.1358
SEQUENCE:3
DTSTAMP:20260420T183831Z
URL:https://business.wwlcchamber.com/events/details/lake-county-top-4-under-40-1358
END:VEVENT

END:VCALENDAR
