BEGIN:VCALENDAR
VERSION:2.0
PRODID:-//ChamberMaster//Event Calendar 2.0//EN
METHOD:PUBLISH
X-PUBLISHED-TTL:P3D
REFRESH-INTERVAL:P3D
CALSCALE:GREGORIAN
BEGIN:VEVENT
DTSTART:20240601T160000Z
DTEND:20240601T200000Z
X-MICROSOFT-CDO-ALLDAYEVENT:FALSE
SUMMARY:Jackie at Bright Wishes travel: Kick off to summer June 1st Shop your favorite resort wear and book your trip with jackie!
DESCRIPTION:Jackie at Bright Wishes travel: Kick off to summer June 1st \n\nShop your favorite resort wear and book your trip with jackie! \n\n \n\nTime: Noon to 4 pm \n\nLilly Pulitzer store in legacy village \n\n \n\nTumi luggage is also going to be there \n\n \n\nWe are going with a "kick off summer" get your luggage from Tumi\, your clothes from Lily and book your trip with Jackie
X-ALT-DESC;FMTTYPE=text/html:<div style="text-align: center\;"><strong><span style="font-size:16px\;">Jackie at Bright Wishes travel: Kick off to summer June 1st&nbsp\;<br />\nShop your favorite resort wear and book your trip with jackie!&nbsp\;<br />\n&nbsp\;<br />\n<span style="color:#313131\;"><span style="font-family:helvetica neue\,serif\;">Time:&nbsp\;Noon to 4 pm&nbsp\;</span></span><br />\n<span style="color:#313131\;"><span style="font-family:helvetica neue\,serif\;">Lilly Pulitzer store in legacy village&nbsp\;</span></span><br />\n&nbsp\;<br />\n<span style="color:#313131\;"><span style="font-family:helvetica neue\,serif\;">Tumi luggage is also going to be there&nbsp\;</span></span><br />\n&nbsp\;<br />\n<span style="color:#313131\;"><span style="font-family:helvetica neue\,serif\;">We are going with a &quot\;kick off summer&quot\; get your luggage from Tumi\, your clothes from Lily and book your trip with Jackie&nbsp\;</span></span></span></strong></div>\n
LOCATION:Lilly Pulitzer store in legacy village
UID:e.537.2715
SEQUENCE:3
DTSTAMP:20260424T190731Z
URL:https://business.wwlcchamber.com/events/details/jackie-at-bright-wishes-travel-kick-off-to-summer-june-1st-shop-your-favorite-resort-wear-and-book-your-trip-with-jackie-2715
END:VEVENT

END:VCALENDAR
