BEGIN:VCALENDAR
VERSION:2.0
PRODID:-//ChamberMaster//Event Calendar 2.0//EN
METHOD:PUBLISH
X-PUBLISHED-TTL:P3D
REFRESH-INTERVAL:P3D
CALSCALE:GREGORIAN
BEGIN:VEVENT
DTSTART:20230816T150000Z
DTEND:20230816T160000Z
X-MICROSOFT-CDO-ALLDAYEVENT:FALSE
SUMMARY:Inclusive Hiring & Employment
DESCRIPTION:Inclusive Hiring & Employment\n\nBecome a Member of The\n\nLake County Board of DD/Deepwood Business Advisory Council\n\n\n\nLearn and share with other employers about inclusive hiring and employment practices and the value of employing individuals\n\nwith disabilities.\n\nThe business Advisory Council and the Lake County Employment Network will collaborate regarding qualified job seekers and local\n\nemployment opportunities.\n\nQuarterly Meetings\n\n11:00am-12:00pm\n\nAugust 16th & November 15th
X-ALT-DESC;FMTTYPE=text/html:<div style="text-align: center\;"><strong><span style="font-size:22px\;">Inclusive Hiring &amp\; Employment</span></strong><br />\n<span style="font-size:22px\;"><span style="font-size:18px\;"><strong>Become a Member of The<br />\nLake County Board of DD/Deepwood Business Advisory Council</strong><br />\n<br />\nLearn and share with other employers about inclusive hiring and employment practices and the value of employing individuals<br />\nwith disabilities.<br />\nThe business Advisory Council and the Lake County Employment Network will collaborate regarding qualified job seekers and local<br />\nemployment opportunities.<br />\nQuarterly Meetings<br />\n11:00am-12:00pm<br />\nAugust 16th &amp\; November 15th</span></span><br />\n&nbsp\;</div>\n
LOCATION:August 16th Orbis Corporation 7212 Justin Way Mentor\, OH 44060
UID:e.537.2633
SEQUENCE:3
DTSTAMP:20260419T125735Z
URL:https://business.wwlcchamber.com/events/details/inclusive-hiring-employment-2633
END:VEVENT

END:VCALENDAR
