BEGIN:VCALENDAR
VERSION:2.0
PRODID:-//ChamberMaster//Event Calendar 2.0//EN
METHOD:PUBLISH
X-PUBLISHED-TTL:P3D
REFRESH-INTERVAL:P3D
CALSCALE:GREGORIAN
BEGIN:VEVENT
DTSTART:20191207T150000Z
DTEND:20191208T010000Z
X-MICROSOFT-CDO-ALLDAYEVENT:FALSE
SUMMARY:Holiday Mini Photo Session day!
DESCRIPTION:Holiday mini sessions are here!\n\nGrab the kids\, grab the dog\, cat\, lizard\, whatever\, and meet us at the studio for a quick family photo session. Also perfect for engaged couples\, newlyweds and newborns!\n\nEnjoy free coffee or hot chocolate while you wait.\n\nSessions are by appointment only\, so stop by or contact us now to lock in your preferred time!\n\n\n\nHere's some pricing:\n\n\n	Package #1 : $50 gets you a 30 minute session and a fully retouched 5x7 print of your favorite. Bonus : spend an additional $100+ and get $25 off instantly.\n	Package #2 : $100 gets you a 30 minute session and a fully retouched 5x7 print as well as a digital download of your favorite image. Bonus : spend an additional $100 and get $50 off instantly.\n	Extra deals : 20% off any holiday card order when placed same day and special discounts on 5x7 frames (perfect for your 5x7 print and we'll even frame it for you!)
X-ALT-DESC;FMTTYPE=text/html:<h1>Holiday mini sessions are here!</h1>\n\n<p>Grab the kids\, grab the dog\, cat\, lizard\, whatever\, and meet us at the studio for a quick family photo session. Also perfect for engaged couples\, newlyweds and newborns!<br />\nEnjoy free coffee or hot chocolate while you wait.<br />\nSessions are by appointment only\, so stop by or contact us now to lock in your preferred time!<br />\n<br />\nHere&#39\;s some pricing:</p>\n\n<ul>\n	<li>Package #1 : $50 gets you a 30 minute session and a fully retouched 5x7 print of your favorite. Bonus : spend an additional $100+ and get $25 off instantly.</li>\n	<li>Package #2 : $100 gets you a 30 minute session and a fully retouched 5x7 print as well as a digital download of your favorite image. Bonus : spend an additional $100 and get $50 off instantly.</li>\n	<li>Extra deals : 20% off any holiday card order when placed same day and special discounts on 5x7 frames (perfect for your 5x7 print and we&#39\;ll even frame it for you!)</li>\n</ul>\n
LOCATION:We're hosting this in our brand new studio in beautiful\, historic downtown Willoughby! Our main entrance is two doors down from Arabica. 4132 Erie St. Suite 201\, Willoughby OH 44094 (upstairs)
UID:e.537.1751
SEQUENCE:3
DTSTAMP:20260420T154042Z
URL:https://business.wwlcchamber.com/events/details/holiday-mini-photo-session-day-1751
END:VEVENT

END:VCALENDAR
