BEGIN:VCALENDAR
VERSION:2.0
PRODID:-//ChamberMaster//Event Calendar 2.0//EN
METHOD:PUBLISH
X-PUBLISHED-TTL:P3D
REFRESH-INTERVAL:P3D
CALSCALE:GREGORIAN
BEGIN:VEVENT
DTSTART:20200310T133000Z
DTEND:20200310T160000Z
X-MICROSOFT-CDO-ALLDAYEVENT:FALSE
SUMMARY:Fundraising Planning Workshop
DESCRIPTION:Fundraising Planning Workshop\n\n Learn a basic planning process for diversifying your organization's support\n\n \n\n \n\nA successful nonprofit organization has diversified funding streams. If your organization has never developed a fundraising plan or calendar or wants to think about ways to increase fundraising effectiveness--this session is for you.\n\n \n\nThis workshop provides an overview of the process of strategically thinking through the components of a fundraising plan. You'll learn how to:\n\n \n\n	Take stock of your organization's strengths and assets\n	Develop a case statement\n	Set fundraising goals for your key projects\n	Identify realistic funding partners\n	Prepare a fundraising plan and calendar\n\n \n\nBring your current fundraising materials and be prepared for a number of hands-on exercises designed to give you the raw materials for improving your fundraising plan.\n\n\n\nMore Information Here\n\n\n\nREGISTER HERE
X-ALT-DESC;FMTTYPE=text/html:<strong><span style="color:#5C0000"><span style="font-family:arial\,sans-serif"><span style="font-size:18.0pt">Fundraising Planning Workshop</span></span></span></strong><br />\n&nbsp\;<strong><em><span style="color:#5C0000"><span style="font-family:arial\,sans-serif"><span style="font-size:12.0pt">Learn a basic planning process for diversifying your organization&#39\;s support</span></span></span></em></strong><br />\n&nbsp\;<br />\n&nbsp\;<br />\n<span style="color:#002060"><span style="font-family:arial\,sans-serif"><span style="font-size:12.0pt">A successful nonprofit organization has diversified funding streams. If your organization has never developed a fundraising plan or calendar&mdash\;or wants to think about ways to increase fundraising effectiveness--this session is for you.</span></span></span><br />\n&nbsp\;<br />\n<span style="color:#002060"><span style="font-family:arial\,sans-serif"><span style="font-size:12.0pt">This workshop provides an overview of the process of strategically thinking through the components of a fundraising plan. You&#39\;ll learn how to:</span></span></span><br />\n&nbsp\;\n<ul>\n	<li><span style="font-family:arial\,sans-serif"><span style="font-size:12.0pt">Take stock of your organization&#39\;s strengths and assets</span></span></li>\n	<li><span style="font-family:arial\,sans-serif"><span style="font-size:12.0pt">Develop a case statement</span></span></li>\n	<li><span style="font-family:arial\,sans-serif"><span style="font-size:12.0pt">Set fundraising goals for your key projects</span></span></li>\n	<li><span style="font-family:arial\,sans-serif"><span style="font-size:12.0pt">Identify realistic funding partners</span></span></li>\n	<li><span style="font-family:arial\,sans-serif"><span style="font-size:12.0pt">Prepare a fundraising plan and calendar</span></span></li>\n</ul>\n&nbsp\;<br />\n<span style="color:#002060"><span style="font-family:arial\,sans-serif"><span style="font-size:12.0pt">Bring your current fundraising materials and be prepared for a number of hands-on exercises designed to give you the raw materials for improving your fundraising plan.<br />\n<br />\n<span style="font-size:18px"><strong><a href="https://lkn.lakelandcc.edu/apps/integration/launch/display.cfm?ID=3536&amp\;type=e">More Information Here</a></strong></span></span></span></span><br />\n<br />\n<a href="https://secure.touchnet.com/C20116_ustores/web/classic/store_main.jsp?STOREID=20"><strong><span style="font-family:arial\,sans-serif"><span style="font-size:14.0pt">REGISTER HERE</span></span></strong></a><br />\n<br />\n&nbsp\;
LOCATION:Holden University Center (across from Lakeland Community College Main Campus) Directions
UID:e.537.1799
SEQUENCE:3
DTSTAMP:20260420T115441Z
URL:https://business.wwlcchamber.com/events/details/fundraising-planning-workshop-1799
END:VEVENT

END:VCALENDAR
