BEGIN:VCALENDAR
VERSION:2.0
PRODID:-//ChamberMaster//Event Calendar 2.0//EN
METHOD:PUBLISH
X-PUBLISHED-TTL:P3D
REFRESH-INTERVAL:P3D
CALSCALE:GREGORIAN
BEGIN:VEVENT
DTSTART:20191028T220000Z
DTEND:20191029T010000Z
X-MICROSOFT-CDO-ALLDAYEVENT:FALSE
SUMMARY:From Handmade to Marketplace
DESCRIPTION:Have you spent countless hours creating an amazing product\, but you are unsure how prepare and package it to sell? The Lakeland Entrepreneurship Center presents From Handmade to Marketplace. This two week training program is designed to prepare product entrepreneurs for store shelves. \n\n	Oct. 21\, 2019 from 6pm to 9pm: Business Model Canvas\, Licensing and Labeling\;\n	Oct. 28\, 2019 from 6pm to 9pm: Pricing\, Marketing and Branding\n\nIncludes expert coaching\, resources and more!  Makers of baked goods\, food products\, beauty and health items are encouraged to register. Proud to partner with Forefront Foods and more to teach you how to grow your business! \n\n\n\nThese classes take place at Lakeland C.C. Holden University Center located at 4242 OH-306\, Kirtland\, OH 44094.  Cost: $199 for all four classed. Must be registered by October 17\, 2019.
X-ALT-DESC;FMTTYPE=text/html:<strong><span style="font-family: -apple-system\,blinkmacsystemfont\,segoe ui\,roboto\,helvetica neue\,arial\,sans-serif\; font-size: 16px\; background-color: rgb(255\, 255\, 255)\;">Have you spent countless hours creating an amazing product\, but you are unsure how prepare and package it to sell? The Lakeland Entrepreneurship Center presents From Handmade to Marketplace. This two week training program is designed to prepare product entrepreneurs for store shelves.&nbsp\;</span></strong>\n<ul>\n	<li><strong><span style="font-family: -apple-system\,blinkmacsystemfont\,segoe ui\,roboto\,helvetica neue\,arial\,sans-serif\; font-size: 16px\; background-color: rgb(255\, 255\, 255)\;">Oct. 21\, 2019 from 6pm to 9pm: Business Model Canvas\, Licensing and Labeling\;</span></strong></li>\n	<li><strong><span style="font-family: -apple-system\,blinkmacsystemfont\,segoe ui\,roboto\,helvetica neue\,arial\,sans-serif\; font-size: 16px\; background-color: rgb(255\, 255\, 255)\;">Oct. 28\, 2019 from 6pm to 9pm: Pricing\, Marketing and Branding</span></strong></li>\n</ul>\n<strong><span style="font-family: -apple-system\,blinkmacsystemfont\,segoe ui\,roboto\,helvetica neue\,arial\,sans-serif\; font-size: 16px\; background-color: rgb(255\, 255\, 255)\;"><strong>Includes expert coaching\, resources and more!&nbsp\;&nbsp\;</strong></span><span style="color: rgb(28\, 30\, 33)\; font-family: helvetica\,arial\,sans-serif\; font-size: 14px\; background-color: rgb(255\, 255\, 255)\;">Makers of baked goods\, food products\, beauty and health items are encouraged to register.&nbsp\;</span><span style="font-family: -apple-system\,blinkmacsystemfont\,segoe ui\,roboto\,helvetica neue\,arial\,sans-serif\; font-size: 16px\; background-color: rgb(255\, 255\, 255)\;">Proud to partner with Forefront Foods and more to teach you how to grow your business!&nbsp\;</span><br />\n<br />\n<span style="font-family: -apple-system\,blinkmacsystemfont\,segoe ui\,roboto\,helvetica neue\,arial\,sans-serif\; font-size: 16px\; background-color: rgb(255\, 255\, 255)\;"><strong>These classes take place at Lakeland C.C. Holden University Center located at 4242 OH-306\, Kirtland\, OH 44094.&nbsp\; Cost: $199 for all four classed. Must be registered by October 17\, 2019.&nbsp\;&nbsp\;</strong></span></strong><br />\n&nbsp\;
LOCATION:Lakeland Community College's Holden University Center 4242 OH-306\, Kirtland\, OH 44094
UID:e.537.1741
SEQUENCE:3
DTSTAMP:20260420T184419Z
URL:https://business.wwlcchamber.com/events/details/from-handmade-to-marketplace-10-28-2019-1741
END:VEVENT

END:VCALENDAR
