BEGIN:VCALENDAR
VERSION:2.0
PRODID:-//ChamberMaster//Event Calendar 2.0//EN
METHOD:PUBLISH
X-PUBLISHED-TTL:P3D
REFRESH-INTERVAL:P3D
CALSCALE:GREGORIAN
BEGIN:VEVENT
DTSTART:20200404T220000Z
DTEND:20200405T020000Z
X-MICROSOFT-CDO-ALLDAYEVENT:FALSE
SUMMARY:Framing the Future Event
DESCRIPTION:You are invited to the Lake-Geauga Habitat for Humanity "Framing the Future" event on Saturday\, April 4\, 2020\, at LaMalfa Party Center in Mentor.\n\n \n\nAgainst an elegant backdrop\, enjoy hors d'oeuvres\, an open bar\, dinner and dessert buffet from 6 p.m. to 10 p.m.\, while participating in a live auction\, silent auctions and door prizes' galore! \n\nLive music will be provided by the hit local acoustic band Who's Charlie.\n\nThe auctioneer will be the dynamic Scott Mihalic. \n\n\n\nAttire is business casual and tickets are $90 per person. \n\n \n\nAttached are additional event details. \n\n\n\nEarly bird tickets are $75 available from January 14 through February 28.\n\n \n\nWe look forward to celebrating with you! Your support will help families in Lake and Geauga Counties with an opportunity to own a decent and affordable home.  \n\nThe proceeds raised will directly benefit Lake-Geauga Habitat for Humanity's mission to build homes\, communities and hope for families in Lake and Geauga counties.\n\n \n\nFor more information or to reserve your admission and sponsorship please contact: \n\nSamantha Huffman - Event/Development Associate \n\nSHuffman@LakeGeaugaHabitat.org or (440) 226.3000 x 103
X-ALT-DESC;FMTTYPE=text/html:<div style="text-align: center\;"><span style="letter-spacing:.35pt\;background:white\;"><span style="color:#211D1E\;"><span style="font-size:12.0pt\;">You are invited to the Lake-Geauga Habitat for Humanity &ldquo\;Framing the Future&rdquo\; event on <strong>Saturday\, April 4\, 2020</strong>\, at&nbsp\;<strong>LaMalfa Party Center</strong>&nbsp\;in Mentor.</span></span></span><br />\n&nbsp\;<br />\n<span style="letter-spacing:.35pt\;background:white\;"><span style="color:#211D1E\;"><span style="font-size:12.0pt\;">Against an elegant backdrop\, enjoy hors d&rsquo\;oeuvres\, an open bar\, dinner and dessert buffet from 6 p.m. to 10 p.m.\, while participating in a live auction\, silent auctions and door prizes&#39\; galore!&nbsp\;</span></span></span><br />\n<span style="letter-spacing:.35pt\;background:white\;"><span style="color:#211D1E\;"><span style="font-size:12.0pt\;">Live music will be provided by the hit local acoustic band&nbsp\;<strong><em>Who&rsquo\;s Charlie</em></strong>.</span></span></span><br />\n<span style="letter-spacing:.35pt\;background:white\;"><span style="color:#211D1E\;"><span style="font-size:12.0pt\;">The auctioneer will be the dynamic&nbsp\;<strong><em>Scott Mihalic</em></strong>.&nbsp\;</span></span></span><br />\n<br />\n<span style="letter-spacing:.35pt\;background:white\;"><span style="color:#211D1E\;"><span style="font-size:12.0pt\;">Attire is business casual and tickets are $90 per person.&nbsp\;</span></span></span><br />\n&nbsp\;<br />\n<span style="letter-spacing:.35pt\;background:white\;"><span style="color:#211D1E\;"><span style="font-size:12.0pt\;">Attached are additional event details. </span></span></span><br />\n<br />\n<span style="letter-spacing:.35pt\;background:white\;"><span style="color:#211D1E\;"><span style="font-size:12.0pt\;"><strong>Early bird tickets are $75 available from January 14 through February 28.</strong></span></span></span><br />\n&nbsp\;<br />\n<span style="letter-spacing:.35pt\;background:white\;"><span style="color:#211D1E\;"><span style="font-size:12.0pt\;">We look forward to celebrating with you! </span></span></span><span style="font-size:12.0pt\;">Your support will help families in Lake and Geauga Counties with an opportunity to own a decent and affordable home.&nbsp\; </span><br />\n<span style="font-size:12.0pt\;">The proceeds raised will directly benefit Lake-Geauga Habitat for Humanity&rsquo\;s mission to build homes\, communities and hope for families in Lake and Geauga counties.</span><br />\n&nbsp\;<br />\n<span style="font-weight:normal\;"><span style="font-family:calibri\,sans-serif\;">For more information or to reserve your admission and sponsorship please contact: </span></span><br />\n<span style="font-weight:normal\;"><span style="font-family:calibri\,sans-serif\;">Samantha Huffman - Event/Development Associate </span></span><br />\n<span style="font-weight:normal\;"><span style="font-family:calibri\,sans-serif\;"><a href="mailto:SHuffman@LakeGeaugaHabitat.org">SHuffman@LakeGeaugaHabitat.org</a> or </span></span><span style="font-family:calibri\,sans-serif\;">(440) 226.3000 x 103</span></div>\n
LOCATION:LaMalfa Party Center Mentor
UID:e.537.1788
SEQUENCE:3
DTSTAMP:20260420T103445Z
URL:https://business.wwlcchamber.com/events/details/framing-the-future-event-1788
END:VEVENT

END:VCALENDAR
