BEGIN:VCALENDAR
VERSION:2.0
PRODID:-//ChamberMaster//Event Calendar 2.0//EN
METHOD:PUBLISH
X-PUBLISHED-TTL:P3D
REFRESH-INTERVAL:P3D
CALSCALE:GREGORIAN
BEGIN:VEVENT
DTSTART:20191116T140000Z
DTEND:20191116T190000Z
X-MICROSOFT-CDO-ALLDAYEVENT:FALSE
SUMMARY:FAA Holiday Marketplace
DESCRIPTION:Add FAA as a shopping destination for your Christmas gifts list this year! Join us at the Holiday Marketplace! Located at FAA\, it will be free and open to the Public on November 16th\, 2019 from 9:00 a.m. - 2:00 p.m. Featuring unique items including Art\, Jewelry\, Pottery\, Holiday Ornaments\, Gifts and more!\n\n\n\nWe also have a Kids Gift Workshop for only $5. Kids can make a gift for those on their gift list and our FAA Elves will even wrap it too!!\n\n\n\nThee FAA Dance Team E.V.E will have gourmet hot chocolate and a bake sale too!!!
X-ALT-DESC;FMTTYPE=text/html:<span style="color: rgb(29\, 33\, 41)\; font-family: helvetica\,arial\,sans-serif\; font-size: 14px\;">Add FAA as a shopping destination for your Christmas gifts list this year! Join us at the Holiday Marketplace! Located at FAA\, it will be free and open to the Public on November 16th\, 2019 from 9:00 a.m. - 2:00 p.m. Featuring unique items including Art\, Jewelry\, Pottery\, Holiday Ornaments\, Gifts and more!<br />\n<br />\nWe also have a Kids Gift Workshop for only $5. Kids can make a gift for those on their gift list and our FAA Elves will even wrap it too!!<br />\n<br />\nThee FAA Dance Team E.V.E will have gourmet hot chocolate and a bake sale too!!!</span><br />\n&nbsp\;
LOCATION:The Fine Arts Association 38660 Mentor Avenue Willoughby\, Ohio 44094
UID:e.537.1744
SEQUENCE:3
DTSTAMP:20260420T171221Z
URL:https://business.wwlcchamber.com/events/details/faa-holiday-marketplace-1744
END:VEVENT

END:VCALENDAR
