BEGIN:VCALENDAR
VERSION:2.0
PRODID:-//ChamberMaster//Event Calendar 2.0//EN
METHOD:PUBLISH
X-PUBLISHED-TTL:P3D
REFRESH-INTERVAL:P3D
CALSCALE:GREGORIAN
BEGIN:VEVENT
DTSTART:20230830T220000Z
DTEND:20230831T003000Z
X-MICROSOFT-CDO-ALLDAYEVENT:FALSE
SUMMARY:Direct Sales Party Palooza
DESCRIPTION:Get ready to indulge in a world of products\, demonstrations\, and exclusive offers that will leave you inspired and delighted. This event promises to be a gathering of vendors\, each offering unique and high quality products.\n\nThink Mary Kay\, Pampered Chef\, Scout & Cellar\, Touchstone Crystals\, Young Living\, CAbi\, Pure Romance and Paparazzi by Betty\, ALL IN ONE PLACE!\n\n\n\nThe event is FREE but attendees are encouraged to bring a donation of paper towels or heavy paper plates for Friends of Recovery.
X-ALT-DESC;FMTTYPE=text/html:Get ready to indulge in a world of products\, demonstrations\, and exclusive offers that will leave you inspired and delighted. This event promises to be a gathering of vendors\, each offering unique and high quality products.<br />\nThink Mary Kay\, Pampered Chef\, Scout &amp\; Cellar\, Touchstone Crystals\, Young Living\, CAbi\, Pure Romance and Paparazzi by Betty\, ALL IN ONE PLACE!<br />\n<br />\nThe event is FREE but attendees are encouraged to bring a donation of paper towels or heavy paper plates for Friends of Recovery.<br />\n<br />\n<br />\n&nbsp\;
LOCATION:Willoughby Workspaces at The Charlton Abbott 37903 Euclid Ave Willoughby OH 44094
UID:e.537.2645
SEQUENCE:3
DTSTAMP:20260419T125732Z
URL:https://business.wwlcchamber.com/events/details/direct-sales-party-palooza-2645
END:VEVENT

END:VCALENDAR
