BEGIN:VCALENDAR
VERSION:2.0
PRODID:-//ChamberMaster//Event Calendar 2.0//EN
METHOD:PUBLISH
X-PUBLISHED-TTL:P3D
REFRESH-INTERVAL:P3D
CALSCALE:GREGORIAN
BEGIN:VEVENT
DTSTART:20191012T130000Z
DTEND:20191012T140000Z
X-MICROSOFT-CDO-ALLDAYEVENT:FALSE
SUMMARY:Come Join us for a Ribbon Cutting & Grand Re-Opening of Gabe's
DESCRIPTION:Come Join the Chamber in a Grand Opening and Ribbon Cutting\n\n\n\nfor our new Member\n\nGabe's\n\n \n\n\nSaturday\, October 12th 9AM\n\n \n\nGabe's\n\n30150 Euclid Avenue\n\nWickliffe\, OH 44092\n\n \n\nLive on air radio and a $5 coupon to be used at ribbon cutting\n\nClick here for Coupon
X-ALT-DESC;FMTTYPE=text/html:<div style="text-align: center\;"><br />\n<span style="font-size: 16px\;"><strong><em><span style="font-size: 20px\;">Come Join the Chamber in a Grand Opening and Ribbon Cutting<br />\n<br />\nfor our new Member</span></em></strong></span></div>\n\n<div style="text-align: center\;"><span style="font-size: 24px\;"><strong>Gabe&#39\;s</strong></span><br />\n&nbsp\;</div>\n\n<div style="text-align: center\;">\n<div align="center" style="text-align: center\; color: rgb(64\, 63\, 66)\; text-transform: none\; text-indent: 0px\; letter-spacing: normal\; font-family: Arial\, Verdana\, Helvetica\, sans-serif\; font-size: 12px\; font-style: normal\; font-weight: 400\; word-spacing: 0px\; white-space: normal\; orphans: 2\; widows: 2\; background-color: rgb(255\, 255\, 255)\; font-variant-ligatures: normal\; font-variant-caps: normal\; -webkit-text-stroke-width: 0px\; text-decoration-style: initial\; text-decoration-color: initial\;"><span style="color: rgb(0\, 0\, 0)\; font-size: 16px\; font-weight: bold\;">Saturday\, October 12th 9AM</span></div>\n\n<div align="center" style="text-align: center\; color: rgb(64\, 63\, 66)\; text-transform: none\; text-indent: 0px\; letter-spacing: normal\; font-family: Arial\, Verdana\, Helvetica\, sans-serif\; font-size: 12px\; font-style: normal\; font-weight: 400\; word-spacing: 0px\; white-space: normal\; orphans: 2\; widows: 2\; background-color: rgb(255\, 255\, 255)\; font-variant-ligatures: normal\; font-variant-caps: normal\; -webkit-text-stroke-width: 0px\; text-decoration-style: initial\; text-decoration-color: initial\;">&nbsp\;</div>\n\n<div align="center" style="text-align: center\; color: rgb(64\, 63\, 66)\; text-transform: none\; text-indent: 0px\; letter-spacing: normal\; font-family: Arial\, Verdana\, Helvetica\, sans-serif\; font-size: 12px\; font-style: normal\; font-weight: 400\; word-spacing: 0px\; white-space: normal\; orphans: 2\; widows: 2\; background-color: rgb(255\, 255\, 255)\; font-variant-ligatures: normal\; font-variant-caps: normal\; -webkit-text-stroke-width: 0px\; text-decoration-style: initial\; text-decoration-color: initial\;"><span style="font-size: 20px\;"><span style="color: rgb(0\, 0\, 0)\; font-weight: bold\;">Gabe&#39\;s</span></span></div>\n\n<div align="center" style="text-align: center\; color: rgb(64\, 63\, 66)\; text-transform: none\; text-indent: 0px\; letter-spacing: normal\; font-family: Arial\, Verdana\, Helvetica\, sans-serif\; font-size: 12px\; font-style: normal\; font-weight: 400\; word-spacing: 0px\; white-space: normal\; orphans: 2\; widows: 2\; background-color: rgb(255\, 255\, 255)\; font-variant-ligatures: normal\; font-variant-caps: normal\; -webkit-text-stroke-width: 0px\; text-decoration-style: initial\; text-decoration-color: initial\;"><span style="font-size: 20px\;"><span style="color: rgb(0\, 0\, 0)\; font-weight: bold\;">30150 Euclid Avenue</span></span></div>\n\n<div align="center" style="text-align: center\; color: rgb(64\, 63\, 66)\; text-transform: none\; text-indent: 0px\; letter-spacing: normal\; font-family: Arial\, Verdana\, Helvetica\, sans-serif\; font-size: 12px\; font-style: normal\; font-weight: 400\; word-spacing: 0px\; white-space: normal\; orphans: 2\; widows: 2\; background-color: rgb(255\, 255\, 255)\; font-variant-ligatures: normal\; font-variant-caps: normal\; -webkit-text-stroke-width: 0px\; text-decoration-style: initial\; text-decoration-color: initial\;"><span style="font-size: 20px\;"><span style="color: rgb(0\, 0\, 0)\; font-weight: bold\;">Wickliffe\, OH 44092</span></span></div>\n\n<div align="center" style="text-align: center\; color: rgb(64\, 63\, 66)\; text-transform: none\; text-indent: 0px\; letter-spacing: normal\; font-family: Arial\, Verdana\, Helvetica\, sans-serif\; font-size: 12px\; font-style: normal\; font-weight: 400\; word-spacing: 0px\; white-space: normal\; orphans: 2\; widows: 2\; background-color: rgb(255\, 255\, 255)\; font-variant-ligatures: normal\; font-variant-caps: normal\; -webkit-text-stroke-width: 0px\; text-decoration-style: initial\; text-decoration-color: initial\;">&nbsp\;</div>\n\n<div align="center" style="text-align: center\; color: rgb(64\, 63\, 66)\; text-transform: none\; text-indent: 0px\; letter-spacing: normal\; font-family: Arial\, Verdana\, Helvetica\, sans-serif\; font-size: 12px\; font-style: normal\; font-weight: 400\; word-spacing: 0px\; white-space: normal\; orphans: 2\; widows: 2\; background-color: rgb(255\, 255\, 255)\; font-variant-ligatures: normal\; font-variant-caps: normal\; -webkit-text-stroke-width: 0px\; text-decoration-style: initial\; text-decoration-color: initial\;"><span style="font-size: 20px\;"><span style="color: rgb(0\, 0\, 0)\; font-style: italic\; font-weight: bold\;">Live on air radio and a $5 coupon to be used at ribbon cutting</span></span></div>\n\n<div align="center" style="text-align: center\; color: rgb(64\, 63\, 66)\; text-transform: none\; text-indent: 0px\; letter-spacing: normal\; font-family: Arial\, Verdana\, Helvetica\, sans-serif\; font-size: 12px\; font-style: normal\; font-weight: 400\; word-spacing: 0px\; white-space: normal\; orphans: 2\; widows: 2\; background-color: rgb(255\, 255\, 255)\; font-variant-ligatures: normal\; font-variant-caps: normal\; -webkit-text-stroke-width: 0px\; text-decoration-style: initial\; text-decoration-color: initial\;"><span style="font-size: 24px\;"><a href="https://files.constantcontact.com/2fa748b6be/2a2999aa-8ee9-4754-b7f4-bee57c9cf06e.pdf" style="color: rgb(54\, 97\, 189)\; font-size: 14px\; font-style: italic\; font-weight: bold\; text-decoration: underline\;" target="_blank">Click here for Coupon</a></span></div>\n<br />\n<br />\n&nbsp\;</div>\n
LOCATION:Gabe's 30150 Euclid Avenue Wickliffe\, OH 44092
UID:e.537.1737
SEQUENCE:3
DTSTAMP:20260420T184616Z
URL:https://business.wwlcchamber.com/events/details/come-join-us-for-a-ribbon-cutting-grand-re-opening-of-gabe-s-1737
END:VEVENT

END:VCALENDAR
