BEGIN:VCALENDAR
VERSION:2.0
PRODID:-//ChamberMaster//Event Calendar 2.0//EN
METHOD:PUBLISH
X-PUBLISHED-TTL:P3D
REFRESH-INTERVAL:P3D
CALSCALE:GREGORIAN
BEGIN:VEVENT
DTSTART:20191025T210000Z
DTEND:20191025T220000Z
X-MICROSOFT-CDO-ALLDAYEVENT:FALSE
SUMMARY:Come Join us for a Ribbon Cutting for The Gateway Diner
DESCRIPTION:Come Join the Chamber in a Ribbon Cutting for\n\nThe Gateway Diner\n\nFriday\, October 25th 5PM\n\n29325 Euclid Ave\n\nWickliffe\, Ohio 44092
X-ALT-DESC;FMTTYPE=text/html:<div style="text-align: center\;"><br />\n<span style="color: rgb(0\, 0\, 0)\;"><span style="font-size: 16px\;"><strong><em><span style="font-size: 20px\;">Come Join the Chamber in a Ribbon Cutting for</span></em></strong></span></span><br />\n<strong><span style="font-size: 22px\;">The Gateway Diner</span></strong><br />\n<em><span style="font-size: 24px\;"><span style="font-family: arial\,sans-serif\;"><span style="color: black\;"><strong>Friday\, October 25th 5PM</strong></span></span></span></em><br />\n<em><strong><span style="font-size: 22px\;">29325 Euclid Ave<br />\nWickliffe\, Ohio 44092<br />\n&nbsp\;</span></strong></em></div>\n\n<div style="text-align: center\;">&nbsp\;</div>\n\n<div style="text-align: center\;"><br />\n<br />\n<br />\n&nbsp\;</div>\n
LOCATION:29325 Euclid Ave Wickliffe\, Ohio 44092
UID:e.537.1743
SEQUENCE:3
DTSTAMP:20260420T184120Z
URL:https://business.wwlcchamber.com/events/details/come-join-us-for-a-ribbon-cutting-for-the-gateway-diner-1743
END:VEVENT

END:VCALENDAR
