BEGIN:VCALENDAR
VERSION:2.0
PRODID:-//ChamberMaster//Event Calendar 2.0//EN
METHOD:PUBLISH
X-PUBLISHED-TTL:P3D
REFRESH-INTERVAL:P3D
CALSCALE:GREGORIAN
BEGIN:VEVENT
DTSTART:20191106T210000Z
DTEND:20191106T220000Z
X-MICROSOFT-CDO-ALLDAYEVENT:FALSE
SUMMARY:Come Join us for a Ribbon Cutting for Patrick Kennedy State Farm
DESCRIPTION:Come Join the Chamber in a Ribbon Cutting for\n\nPatrick Kennedy State Farm
X-ALT-DESC;FMTTYPE=text/html:<div style="text-align: center\;"><br />\n<span style="font-size: 16px\;"><strong><em><span style="font-size: 20px\;">Come Join the Chamber in a Ribbon Cutting for</span></em></strong></span><br />\n<span style="font-size: 26px\;"><strong>Patrick Kennedy State Farm</strong></span><br />\n&nbsp\;</div>\n\n<div style="text-align: center\;">&nbsp\;</div>\n\n<div style="text-align: center\;"><br />\n<br />\n<br />\n&nbsp\;</div>\n
LOCATION:Patrick Kennedy State Farm 34600 Chardon Rd Unit F Willoughby Hills\, Ohio 44094
UID:e.537.1738
SEQUENCE:3
DTSTAMP:20260420T171446Z
URL:https://business.wwlcchamber.com/events/details/come-join-us-for-a-ribbon-cutting-for-patrick-kennedy-state-farm-1738
END:VEVENT

END:VCALENDAR
