BEGIN:VCALENDAR
VERSION:2.0
PRODID:-//ChamberMaster//Event Calendar 2.0//EN
METHOD:PUBLISH
X-PUBLISHED-TTL:P3D
REFRESH-INTERVAL:P3D
CALSCALE:GREGORIAN
BEGIN:VEVENT
DTSTART:20191003T114500Z
DTEND:20191003T130000Z
X-MICROSOFT-CDO-ALLDAYEVENT:FALSE
SUMMARY:Blind Networking
DESCRIPTION:Ever been on a blind date? Well\, we're fixing you up on a blind networking meetup!\n\n\n\n\n\n\n\nAbout this Event\n\n\n\nJoin us October 3rd at 7:45am at our offices in Mentor for a cool new way of meeting someone different.\n\nSign up on via the link\, and when you arrive you'll be paired with two people you have never met. You'll spend an hour getting to know two people- from outside of your network.\n\nCoffee\, water\, donuts will be provided.\n\n \n\nHurry space is limited!
X-ALT-DESC;FMTTYPE=text/html:<div>\n<div>\n<div>\n<div>\n<div><strong>Ever been on a blind date? Well\, we&#39\;re fixing you up on a blind networking meetup!</strong></div>\n</div>\n</div>\n</div>\n</div>\n\n<div>\n<div>\n<h2>About this Event</h2>\n\n<div>\n<div>\n<p>Join us October 3rd at 7:45am at our offices in Mentor for a cool new way of meeting someone different.</p>\n\n<p>Sign up on via the link\, and when you arrive you&#39\;ll be paired with two people you have never met. You&#39\;ll spend an hour getting to know two people- from outside of your network.</p>\n\n<p>Coffee\, water\, donuts will be provided.</p>\n\n<p>&nbsp\;</p>\n\n<p>Hurry space is limited!</p>\n</div>\n</div>\n</div>\n</div>\n
LOCATION:Fiona's Coffee Bar\, Upstairs 4148 Erie Street Willoughby\, Ohio 44094
UID:e.537.1718
SEQUENCE:3
DTSTAMP:20260420T183619Z
URL:https://business.wwlcchamber.com/events/details/blind-networking-1718
END:VEVENT

END:VCALENDAR
