BEGIN:VCALENDAR
VERSION:2.0
PRODID:-//ChamberMaster//Event Calendar 2.0//EN
METHOD:PUBLISH
X-PUBLISHED-TTL:P3D
REFRESH-INTERVAL:P3D
CALSCALE:GREGORIAN
BEGIN:VEVENT
DTSTART:20191017T130000Z
DTEND:20191017T153000Z
X-MICROSOFT-CDO-ALLDAYEVENT:FALSE
SUMMARY:Basics of Tracking Inventory in QuickBooks
DESCRIPTION:Keeping track of inventory when running a small business can help lower costs\, speed up fulfillment\, and prevent fraud. If you are trying to figure out how to keep track of inventory in QuickBooks\, then this workshop is right for you. Topics covered in this class include:\n\n	Should you even attempt to track your inventory in QuickBooks? \n	Is QuickBooks the right solution for the specific needs of your business?\n	The QuickBooks inventory workflows:\n	\n		1. Setting up inventory (and non-inventory) items properly\n		2. Importing inventory from Excel\n		3. Creating purchase orders\n		4. Receiving items and setting up vendor bills\n		5. Using sales orders\n		6. Selling items on invoices\n		7. Fixing problems with inventory\n	\n	\n	Questions and Answers\n\nPlease note: QuickBooks desktop will be used to demonstrate the above\, but the concepts also apply to QuickBooks Online. This class does NOT cover the Advanced Inventory module found in QuickBooks Enterprise\n\n\n\nInstructed by: Scott Gregory\, QuickBooks Expert\n\n\n\nOrganized by: The Ohio Small Business Development Center at Lakeland Community College
X-ALT-DESC;FMTTYPE=text/html:<strong>Keeping track of inventory when running a small business can help lower costs\, speed up fulfillment\, and prevent fraud. If you are trying to figure out how to keep track of inventory in QuickBooks\, then this workshop is right for you. Topics covered in this class include:</strong>\n<ul>\n	<li><strong>Should you even attempt to track your inventory in QuickBooks?&nbsp\;</strong></li>\n	<li><strong>Is QuickBooks the right solution for the specific needs of your business?</strong></li>\n	<li><strong>The QuickBooks inventory workflows:</strong>\n	<ul>\n		<li><strong>1. Setting up inventory (and non-inventory) items properly</strong></li>\n		<li><strong>2. Importing inventory from Excel</strong></li>\n		<li><strong>3. Creating purchase orders</strong></li>\n		<li><strong>4. Receiving items and setting up vendor bills</strong></li>\n		<li><strong>5. Using sales orders</strong></li>\n		<li><strong>6. Selling items on invoices</strong></li>\n		<li><strong>7. Fixing problems with inventory</strong></li>\n	</ul>\n	</li>\n	<li><strong>Questions and Answers</strong></li>\n</ul>\n<strong>Please note: QuickBooks desktop will be used to demonstrate the above\, but the concepts also apply to QuickBooks Online. This class does NOT cover the Advanced Inventory module found in QuickBooks Enterprise<br />\n<br />\nInstructed by: Scott Gregory\, QuickBooks Expert<br />\n<br />\nOrganized by: The Ohio Small Business Development Center at Lakeland Community College</strong><br />\n<br />\n&nbsp\;
LOCATION:Lakeland Community College's Holden U.C. 4242 OH-306\, Kirtland\, OH 44094
UID:e.537.1715
SEQUENCE:3
DTSTAMP:20260420T200336Z
URL:https://business.wwlcchamber.com/events/details/basics-of-tracking-inventory-in-quickbooks-1715
END:VEVENT

END:VCALENDAR
