BEGIN:VCALENDAR
VERSION:2.0
PRODID:-//ChamberMaster//Event Calendar 2.0//EN
METHOD:PUBLISH
X-PUBLISHED-TTL:P3D
REFRESH-INTERVAL:P3D
CALSCALE:GREGORIAN
BEGIN:VEVENT
DTSTART:20191205T223000Z
DTEND:20191206T013000Z
X-MICROSOFT-CDO-ALLDAYEVENT:FALSE
SUMMARY:8th Annual Women's Winterfest & Holiday Food Tasting!
DESCRIPTION:Come. Join United Way of Lake County's Women United for our community's most anticipated holiday event of the year - a wildly popular girl's night out you do not want to miss! Amazing eats from up to 20 local residents are included when you register to attend their 8th Annual Women's Winterfest & Holiday Food Tasting Fundraiser! Plus\, enjoy loads of great prizes and big fun at their signature event! All to benefit Lake County women and girls in need. Advance reservations required. Tickets sell out FAST so hurry and register now at www.uwlc.org/winterfest-2019 or by calling 440.639.1131.
X-ALT-DESC;FMTTYPE=text/html:<span style="color: black\;"><span style="font-family: arial\,sans-serif\;"><span style="font-size: 12pt\;">Come. Join United Way of Lake County&rsquo\;s Women United for our community&rsquo\;s most anticipated holiday event of the year - a wildly popular girl&rsquo\;s night out you do not want to miss! Amazing eats from up to 20 local residents are included when you register to attend their&nbsp\;8th Annual Women&#39\;s Winterfest &amp\; Holiday Food Tasting Fundraiser! Plus\, enjoy loads of great prizes and big fun at their signature event! All to benefit Lake County women and girls in need. Advance reservations required. Tickets sell out FAST so hurry and register now at </span></span></span><a href="https://www.uwlc.org/winterfest-2019"><span style="color: blue\;">www.uwlc.org/winterfest-2019</span></a> <span style="color: black\;"><span style="font-family: arial\,sans-serif\;"><span style="font-size: 12pt\;">or by calling 440.639.1131.</span></span></span>
LOCATION:American-Croatian Lodge\, 34900 Lakeshore Blvd\, Eastlake
UID:e.537.1730
SEQUENCE:3
DTSTAMP:20260420T154253Z
URL:https://business.wwlcchamber.com/events/details/8th-annual-women-s-winterfest-holiday-food-tasting-1730
END:VEVENT

END:VCALENDAR
